Workbook

Sheet Coils
A1: Register | B1: Description | C1: Access | D1: Tag | E1: Type | F1: Notes | G1: RegType | H1: JSON
A2: 1 | B2: Terms & Conditions Accepted | C2: RW | D2: _TOC_ACCEPTED | E2: BOOL | G2: co | H2: =CONCATENATE("{'tag_name': '",D2, "', 'register_type': '",G2, "', 'register_number': ",A2, "},") -> {'tag_name': '_TOC_ACCEPTED', 'register_type': 'co', 'register_number': 1},
A3: =A2+1 -> 2 | B3: Autotune at next startup | C3: RW | D3: Autotune_Next_Start | E3: BOOL | G3: co | H3: =CONCATENATE("{'tag_name': '",D3, "', 'register_type': '",G3, "', 'register_number': ",A3, "},") -> {'tag_name': 'Autotune_Next_Start', 'register_type': 'co', 'register_number': 2},
A4: =A3+1 -> 3 | B4: Gas Interference Override Enabled | C4: RW | D4: Gas_Interference_Override_Enabled | E4: BOOL | G4: co | H4: =CONCATENATE("{'tag_name': '",D4, "', 'register_type': '",G4, "', 'register_number': ",A4, "},") -> {'tag_name': 'Gas_Interference_Override_Enabled', 'register_type': 'co', 'register_number': 3},
A5: =A4+1 -> 4 | B5: Gauge Off Manual Command | C5: RW | D5: Gauge_Off_Manual | E5: BOOL | G5: co | H5: =CONCATENATE("{'tag_name': '",D5, "', 'register_type': '",G5, "', 'register_number': ",A5, "},") -> {'tag_name': 'Gauge_Off_Manual', 'register_type': 'co', 'register_number': 4},
A6: =A5+1 -> 5 | B6: Initialize | C6: RW | D6: Initialize | E6: BOOL | F6: resets counters & totals | G6: co | H6: =CONCATENATE("{'tag_name': '",D6, "', 'register_type': '",G6, "', 'register_number': ",A6, "},") -> {'tag_name': 'Initialize', 'register_type': 'co', 'register_number': 5},
A7: =A6+1 -> 6 | B7: Analog Input 1 - Enabled | C7: RW | D7: Input_Analog_1.Enabled | E7: BOOL | G7: co | H7: =CONCATENATE("{'tag_name': '",D7, "', 'register_type': '",G7, "', 'register_number': ",A7, "},") -> {'tag_name': 'Input_Analog_1.Enabled', 'register_type': 'co', 'register_number': 6},
A8: =A7+1 -> 7 | B8: Analog Input 2 - Enabled | C8: RW | D8: Input_Analog_2.Enabled | E8: BOOL | G8: co | H8: =CONCATENATE("{'tag_name': '",D8, "', 'register_type': '",G8, "', 'register_number': ",A8, "},") -> {'tag_name': 'Input_Analog_2.Enabled', 'register_type': 'co', 'register_number': 7},
A9: =A8+1 -> 8 | B9: Analog Input 3 - Enabled | C9: RW | D9: Input_Analog_3.Enabled | E9: BOOL | G9: co | H9: =CONCATENATE("{'tag_name': '",D9, "', 'register_type': '",G9, "', 'register_number': ",A9, "},") -> {'tag_name': 'Input_Analog_3.Enabled', 'register_type': 'co', 'register_number': 8},
A10: =A9+1 -> 9 | B10: Calibrate Inclinometer Command | C10: RW | D10: Input_Inclinometer_Calibrate | E10: BOOL | G10: co | H10: =CONCATENATE("{'tag_name': '",D10, "', 'register_type': '",G10, "', 'register_number': ",A10, "},") -> {'tag_name': 'Input_Inclinometer_Calibrate', 'register_type': 'co', 'register_number': 9},
A11: =A10+1 -> 10 | B11: Inclinometer Input - Enabled | C11: RW | D11: Input_Inclinometer.Enabled | E11: BOOL | G11: co | H11: =CONCATENATE("{'tag_name': '",D11, "', 'register_type': '",G11, "', 'register_number': ",A11, "},") -> {'tag_name': 'Input_Inclinometer.Enabled', 'register_type': 'co', 'register_number': 10},
A12: =A11+1 -> 11 | B12: Load Cell Input - Enabled | C12: RW | D12: Input_LoadCell.Enabled | E12: BOOL | G12: co | H12: =CONCATENATE("{'tag_name': '",D12, "', 'register_type': '",G12, "', 'register_number': ",A12, "},") -> {'tag_name': 'Input_LoadCell.Enabled', 'register_type': 'co', 'register_number': 11},
A13: =A12+1 -> 12 | B13: Minimum Fluid Load Shutdown Enabled | C13: RW | D13: Min_Fluid_Load_Shutdown_Enabled | E13: BOOL | G13: co | H13: =CONCATENATE("{'tag_name': '",D13, "', 'register_type': '",G13, "', 'register_number': ",A13, "},") -> {'tag_name': 'Min_Fluid_Load_Shutdown_Enabled', 'register_type': 'co', 'register_number': 12},
A14: =A13+1 -> 13 | B14: Restart After Fault Allowed | C14: RW | D14: Restart_After_Fault_Allowed | E14: BOOL | G14: co | H14: =CONCATENATE("{'tag_name': '",D14, "', 'register_type': '",G14, "', 'register_number': ",A14, "},") -> {'tag_name': 'Restart_After_Fault_Allowed', 'register_type': 'co', 'register_number': 13},
A15: =A14+1 -> 14 | B15: Update Tapers | C15: RW | D15: Update_Tapers | E15: BOOL | G15: co | H15: =CONCATENATE("{'tag_name': '",D15, "', 'register_type': '",G15, "', 'register_number': ",A15, "},") -> {'tag_name': 'Update_Tapers', 'register_type': 'co', 'register_number': 14},
A16: =A15+1 -> 15 | B16: Use Wireless Load Cell | C16: RW | D16: USE_WIRELESS_LOADCELL | E16: BOOL | G16: co | H16: =CONCATENATE("{'tag_name': '",D16, "', 'register_type': '",G16, "', 'register_number': ",A16, "},") -> {'tag_name': 'USE_WIRELESS_LOADCELL', 'register_type': 'co', 'register_number': 15},
A17: =A16+1 -> 16 | B17: Write VFD Mode Data | C17: RW | D17: Write_Mode_Data | E17: BOOL | G17: co | H17: =CONCATENATE("{'tag_name': '",D17, "', 'register_type': '",G17, "', 'register_number': ",A17, "},") -> {'tag_name': 'Write_Mode_Data', 'register_type': 'co', 'register_number': 16},
A18: =A17+1 -> 17 | B18: Write VFD Nameplate Data | C18: RW | D18: Write_Setup_Data | E18: BOOL | G18: co | H18: =CONCATENATE("{'tag_name': '",D18, "', 'register_type': '",G18, "', 'register_number': ",A18, "},") -> {'tag_name': 'Write_Setup_Data', 'register_type': 'co', 'register_number': 17},
... A20: =A19+1 -> 19 | B20: Stop Command | C20: RW | D20: Pump.Stop | E20: BOOL | G20: co | H20: =CONCATENATE("{'tag_name': '",D20, "', 'register_type': '",G20, "', 'register_number': ",A20, "},") -> {'tag_name': 'Pump.Stop', 'register_type': 'co', 'register_number': 19},

Sheet Digital Input
A1: Register | B1: Description | C1: Access | D1: Tag | E1: Type | F1: READ CODE | G1: WRITE CODE | H1: Notes | I1: RegType | J1: JSON
A2: 1 | B2: Inclinometer is Calibrating | C2: R | D2: Inclinometer_Calibrating | E2: BOOL | F2: =VLOOKUP(CONCATENATE(E2,"_",C2),#REF!,2) -> #REF! | G2: =VLOOKUP(CONCATENATE(E2,"_",C2),#REF!,3) -> #REF! | I2: di | J2: =CONCATENATE("{'tag_name': '",D2, "', 'register_type': '",I2, "', 'register_number': ",A2, "},") -> {'tag_name': 'Inclinometer_Calibrating', 'register_type': 'di', 'register_number': 1},
A3: =A2+1 -> 2 | B3: Inclinometer Stale Value | C3: R | D3: Inclinometer_Stale | E3: BOOL | F3: =VLOOKUP(CONCATENATE(E3,"_",C3),#REF!,2) -> #REF! | G3: =VLOOKUP(CONCATENATE(E3,"_",C3),#REF!,3) -> #REF! | I3: di | J3: =CONCATENATE("{'tag_name': '",D3, "', 'register_type': '",I3, "', 'register_number': ",A3, "},") -> {'tag_name': 'Inclinometer_Stale', 'register_type': 'di', 'register_number': 2},

Sheet Input Registers
A1: Register | B1: Description | C1: Access | D1: Tag | E1: Type | F1: Reg Count | G1: Notes | H1: RegType | I1: JSON
A2: 1 | B2: Firmware Revision | C2: R | D2: _Firmware_Rev | E2: INT | F2: =VLOOKUP(E2,'Register Counts'!$A$2:$B$5,2) -> 1 | G2: Firmware Rev of the PLC | H2: ir | I2: =CONCATENATE("{'tag_name': '",D2, "', 'register_type': '",H2, "', 'register_number': ",A2, "},") -> {'tag_name': '_Firmware_Rev', 'register_type': 'ir', 'register_number': 1},
A3: =A2+F2 -> 2 | B3: Program Revision | C3: R | D3: _Program_Firmware | E3: INT | F3: =VLOOKUP(E3,'Register Counts'!$A$2:$B$5,2) -> 1 | G3: **** NEED TO CHANGE TO INT | H3: ir | I3: =CONCATENATE("{'tag_name': '",D3, "', 'register_type': '",H3, "', 'register_number': ",A3, "},") -> {'tag_name': '_Program_Firmware', 'register_type': 'ir', 'register_number': 2},
A4: =A3+F3 -> 3 | B4: Last Stroke 1 - Card Type | C4: R | D4: Card_Past[1].Card_Type | E4: SINT | F4: =VLOOKUP(E4,'Register Counts'!$A$2:$B$5,2) -> 1 | G4: 0=Normal, 1=Shutdown, 2=Alarm | H4: ir | I4: =CONCATENATE("{'tag_name': '",D4, "', 'register_type': '",H4, "', 'register_number': ",A4, "},") -> {'tag_name': 'Card_Past[1].Card_Type', 'register_type': 'ir', 'register_number': 3},
A5: =A4+F4 -> 4 | B5: Last Stroke 1 - Downhole Adjusted Gross Stroke | C5: R | D5: Card_Past[1].Downhole_AdjustedGrossStroke | E5: REAL | F5: =VLOOKUP(E5,'Register Counts'!$A$2:$B$5,2) -> 2 | H5: ir | I5: =CONCATENATE("{'tag_name': '",D5, "', 'register_type': '",H5, "', 'register_number': ",A5, "},") -> {'tag_name': 'Card_Past[1].Downhole_AdjustedGrossStroke', 'register_type': 'ir', 'register_number': 4},
A6: =A5+F5 -> 6 | B6: Last Stroke 1 - Downhole Fluid Load | C6: R | D6: Card_Past[1].Downhole_FluidLoad | E6: REAL | F6: =VLOOKUP(E6,'Register Counts'!$A$2:$B$5,2) -> 2 | H6: ir | I6: =CONCATENATE("{'tag_name': '",D6, "', 'register_type': '",H6, "', 'register_number': ",A6, "},") -> {'tag_name': 'Card_Past[1].Downhole_FluidLoad', 'register_type': 'ir', 'register_number': 6},
A7: =A6+F6 -> 8 | B7: Last Stroke 1 - Downhole Gross Stroke | C7: R | D7: Card_Past[1].Downhole_GrossStroke | E7: REAL | F7: =VLOOKUP(E7,'Register Counts'!$A$2:$B$5,2) -> 2 | H7: ir | I7: =CONCATENATE("{'tag_name': '",D7, "', 'register_type': '",H7, "', 'register_number': ",A7, "},") -> {'tag_name': 'Card_Past[1].Downhole_GrossStroke', 'register_type': 'ir', 'register_number': 8},
A8: =A7+F7 -> 10 | B8: Last Stroke 1 - Downhole Peak Load | C8: R | D8: Card_Past[1].Downhole_Max_Load.Load | E8: REAL | F8: =VLOOKUP(E8,'Register Counts'!$A$2:$B$5,2) -> 2 | H8: ir | I8: =CONCATENATE("{'tag_name': '",D8, "', 'register_type': '",H8, "', 'register_number': ",A8, "},") -> {'tag_name': 'Card_Past[1].Downhole_Max_Load.Load', 'register_type': 'ir', 'register_number': 10},
A9: =A8+F8 -> 12 | B9: Last Stroke 1 - Downhole Max Position | C9: R | D9: Card_Past[1].Downhole_Max_Position.Position | E9: REAL | F9: =VLOOKUP(E9,'Register Counts'!$A$2:$B$5,2) -> 2 | H9: ir | I9: =CONCATENATE("{'tag_name': '",D9, "', 'register_type': '",H9, "', 'register_number': ",A9, "},") -> {'tag_name': 'Card_Past[1].Downhole_Max_Position.Position', 'register_type': 'ir', 'register_number': 12},
A10: =A9+F9 -> 14 | B10: Last Stroke 1 - Downhole Min Load | C10: R | D10: Card_Past[1].Downhole_Min_Load.Load | E10: REAL | F10: =VLOOKUP(E10,'Register Counts'!$A$2:$B$5,2) -> 2 | H10: ir | I10: =CONCATENATE("{'tag_name': '",D10, "', 'register_type': '",H10, "', 'register_number': ",A10, "},") -> {'tag_name': 'Card_Past[1].Downhole_Min_Load.Load', 'register_type': 'ir', 'register_number': 14},
A11: =A10+F10 -> 16 | B11: Last Stroke 1 - Downhole Min Position | C11: R | D11: Card_Past[1].Downhole_Min_Position.Position | E11: REAL | F11: =VLOOKUP(E11,'Register Counts'!$A$2:$B$5,2) -> 2 | H11: ir | I11: =CONCATENATE("{'tag_name': '",D11, "', 'register_type': '",H11, "', 'register_number': ",A11, "},") -> {'tag_name': 'Card_Past[1].Downhole_Min_Position.Position', 'register_type': 'ir', 'register_number': 16},
A12: =A11+F11 -> 18 | B12: Last Stroke 1 - Downhole Net Stroke | C12: R | D12: Card_Past[1].Downhole_NetStroke | E12: REAL | F12: =VLOOKUP(E12,'Register Counts'!$A$2:$B$5,2) -> 2 | H12: ir | I12: =CONCATENATE("{'tag_name': '",D12, "', 'register_type': '",H12, "', 'register_number': ",A12, "},") -> {'tag_name': 'Card_Past[1].Downhole_NetStroke', 'register_type': 'ir', 'register_number': 18},
A13: =A12+F12 -> 20 | B13: Last Stroke 1 - Pump Fill Percent | C13: R | D13: Card_Past[1].Fillage_Percent | E13: REAL | F13: =VLOOKUP(E13,'Register Counts'!$A$2:$B$5,2) -> 2 | H13: ir | I13: =CONCATENATE("{'tag_name': '",D13, "', 'register_type': '",H13, "', 'register_number': ",A13, "},") -> {'tag_name': 'Card_Past[1].Fillage_Percent', 'register_type': 'ir', 'register_number': 20},
A14: =A13+F13 -> 22 | B14: Last Stroke 1 - Fluid Level | C14: R | D14: Card_Past[1].Fluid_Above_Pump | E14: REAL | F14: =VLOOKUP(E14,'Register Counts'!$A$2:$B$5,2) -> 2 | H14: ir | I14: =CONCATENATE("{'tag_name': '",D14, "', 'register_type': '",H14, "', 'register_number': ",A14, "},") -> {'tag_name': 'Card_Past[1].Fluid_Above_Pump', 'register_type': 'ir', 'register_number': 22},
A15: =A14+F14 -> 24 | B15: Last Stroke 1 - Fluid Moved | C15: R | D15: Card_Past[1].Fluid_Moved | E15: REAL | F15: =VLOOKUP(E15,'Register Counts'!$A$2:$B$5,2) -> 2 | H15: ir | I15: =CONCATENATE("{'tag_name': '",D15, "', 'register_type': '",H15, "', 'register_number': ",A15, "},") -> {'tag_name': 'Card_Past[1].Fluid_Moved', 'register_type': 'ir', 'register_number': 24},
A16: =A15+F15 -> 26 | B16: Last Stroke 1 - Stroke Number | C16: R | D16: Card_Past[1].ID | E16: DINT | F16: =VLOOKUP(E16,'Register Counts'!$A$2:$B$5,2) -> 1 | H16: ir | I16: =CONCATENATE("{'tag_name': '",D16, "', 'register_type': '",H16, "', 'register_number': ",A16, "},") -> {'tag_name': 'Card_Past[1].ID', 'register_type': 'ir', 'register_number': 26},
... A27: =A26+F26 -> 46 | B27: Last Stroke 1 - Tubing Movement | C27: R | D27: Card_Past[1].Tubing_Movement | E27: REAL | F27: =VLOOKUP(E27,'Register Counts'!$A$2:$B$5,2) -> 2 | H27: ir | I27: =CONCATENATE("{'tag_name': '",D27, "', 'register_type': '",H27, "', 'register_number': ",A27, "},") -> {'tag_name': 'Card_Past[1].Tubing_Movement', 'register_type': 'ir', 'register_number': 46},
A28: =A27+F27 -> 48 | B28: Last Stroke 2 - Card Type | C28: R | D28: Card_Past[2].Card_Type | E28: SINT | F28: =VLOOKUP(E28,'Register Counts'!$A$2:$B$5,2) -> 1 | G28: 0=Normal, 1=Shutdown, 2=Alarm | H28: ir | I28: =CONCATENATE("{'tag_name': '",D28, "', 'register_type': '",H28, "', 'register_number': ",A28, "},") -> {'tag_name': 'Card_Past[2].Card_Type', 'register_type': 'ir', 'register_number': 48},
A29: =A28+F28 -> 49 | B29: Last Stroke 2 - Downhole Adjusted Gross Stroke | C29: R | D29: Card_Past[2].Downhole_AdjustedGrossStroke | E29: REAL | F29: =VLOOKUP(E29,'Register Counts'!$A$2:$B$5,2) -> 2 | H29: ir | I29: =CONCATENATE("{'tag_name': '",D29, "', 'register_type': '",H29, "', 'register_number': ",A29, "},") -> {'tag_name': 'Card_Past[2].Downhole_AdjustedGrossStroke', 'register_type': 'ir', 'register_number': 49},
A30: =A29+F29 -> 51 | B30: Last Stroke 2 - Downhole Fluid Load | C30: R | D30: Card_Past[2].Downhole_FluidLoad | E30: REAL | F30: =VLOOKUP(E30,'Register Counts'!$A$2:$B$5,2) -> 2 | H30: ir | I30: =CONCATENATE("{'tag_name': '",D30, "', 'register_type': '",H30, "', 'register_number': ",A30, "},") -> {'tag_name': 'Card_Past[2].Downhole_FluidLoad', 'register_type': 'ir', 'register_number': 51},
A31: =A30+F30 -> 53 | B31: Last Stroke 2 - Downhole Gross Stroke | C31: R | D31: Card_Past[2].Downhole_GrossStroke | E31: REAL | F31: =VLOOKUP(E31,'Register Counts'!$A$2:$B$5,2) -> 2 | H31: ir | I31: =CONCATENATE("{'tag_name': '",D31, "', 'register_type': '",H31, "', 'register_number': ",A31, "},") -> {'tag_name': 'Card_Past[2].Downhole_GrossStroke', 'register_type': 'ir', 'register_number': 53},
A32: =A31+F31 -> 55 | B32: Last Stroke 2 - Downhole Peak Load | C32: R | D32: Card_Past[2].Downhole_Max_Load.Load | E32: REAL | F32: =VLOOKUP(E32,'Register Counts'!$A$2:$B$5,2) -> 2 | H32: ir | I32: =CONCATENATE("{'tag_name': '",D32, "', 'register_type': '",H32, "', 'register_number': ",A32, "},") -> {'tag_name': 'Card_Past[2].Downhole_Max_Load.Load', 'register_type': 'ir', 'register_number': 55},
A33: =A32+F32 -> 57 | B33: Last Stroke 2 - Downhole Max Position | C33: R | D33: Card_Past[2].Downhole_Max_Position.Position | E33: REAL | F33: =VLOOKUP(E33,'Register Counts'!$A$2:$B$5,2) -> 2 | H33: ir | I33: =CONCATENATE("{'tag_name': '",D33, "', 'register_type': '",H33, "', 'register_number': ",A33, "},") -> {'tag_name': 'Card_Past[2].Downhole_Max_Position.Position', 'register_type': 'ir', 'register_number': 57},
A34: =A33+F33 -> 59 | B34: Last Stroke 2 - Downhole Min Load | C34: R | D34: Card_Past[2].Downhole_Min_Load.Load | E34: REAL | F34: =VLOOKUP(E34,'Register Counts'!$A$2:$B$5,2) -> 2 | H34: ir | I34: =CONCATENATE("{'tag_name': '",D34, "', 'register_type': '",H34, "', 'register_number': ",A34, "},") -> {'tag_name': 'Card_Past[2].Downhole_Min_Load.Load', 'register_type': 'ir', 'register_number': 59},
A35: =A34+F34 -> 61 | B35: Last Stroke 2 - Downhole Min Position | C35: R | D35: Card_Past[2].Downhole_Min_Position.Position | E35: REAL | F35: =VLOOKUP(E35,'Register Counts'!$A$2:$B$5,2) -> 2 | H35: ir | I35: =CONCATENATE("{'tag_name': '",D35, "', 'register_type': '",H35, "', 'register_number': ",A35, "},") -> {'tag_name': 'Card_Past[2].Downhole_Min_Position.Position', 'register_type': 'ir', 'register_number': 61},
A36: =A35+F35 -> 63 | B36: Last Stroke 2 - Downhole Net Stroke | C36: R | D36: Card_Past[2].Downhole_NetStroke | E36: REAL | F36: =VLOOKUP(E36,'Register Counts'!$A$2:$B$5,2) -> 2 | H36: ir | I36: =CONCATENATE("{'tag_name': '",D36, "', 'register_type': '",H36, "', 'register_number': ",A36, "},") -> {'tag_name': 'Card_Past[2].Downhole_NetStroke', 'register_type': 'ir', 'register_number': 63},
A37: =A36+F36 -> 65 | B37: Last Stroke 2 - Pump Fill Percent | C37: R | D37: Card_Past[2].Fillage_Percent | E37: REAL | F37: =VLOOKUP(E37,'Register Counts'!$A$2:$B$5,2) -> 2 | H37: ir | I37: =CONCATENATE("{'tag_name': '",D37, "', 'register_type': '",H37, "', 'register_number': ",A37, "},") -> {'tag_name': 'Card_Past[2].Fillage_Percent', 'register_type': 'ir', 'register_number': 65},
A38: =A37+F37 -> 67 | B38: Last Stroke 2 - Fluid Level | C38: R | D38: Card_Past[2].Fluid_Above_Pump | E38: REAL | F38: =VLOOKUP(E38,'Register Counts'!$A$2:$B$5,2) -> 2 | H38: ir | I38: =CONCATENATE("{'tag_name': '",D38, "', 'register_type': '",H38, "', 'register_number': ",A38, "},") -> {'tag_name': 'Card_Past[2].Fluid_Above_Pump', 'register_type': 'ir', 'register_number': 67},
A39: =A38+F38 -> 69 | B39: Last Stroke 2 - Fluid Moved | C39: R | D39: Card_Past[2].Fluid_Moved | E39: REAL | F39: =VLOOKUP(E39,'Register Counts'!$A$2:$B$5,2) -> 2 | H39: ir | I39: =CONCATENATE("{'tag_name': '",D39, "', 'register_type': '",H39, "', 'register_number': ",A39, "},") -> {'tag_name': 'Card_Past[2].Fluid_Moved', 'register_type': 'ir', 'register_number': 69},
A40: =A39+F39 -> 71 | B40: Last Stroke 2 - Stroke Number | C40: R | D40: Card_Past[2].ID | E40: DINT | F40: =VLOOKUP(E40,'Register Counts'!$A$2:$B$5,2) -> 1 | H40: ir | I40: =CONCATENATE("{'tag_name': '",D40, "', 'register_type': '",H40, "', 'register_number': ",A40, "},") -> {'tag_name': 'Card_Past[2].ID', 'register_type': 'ir', 'register_number': 71},
... A51: =A50+F50 -> 91 | B51: Last Stroke 2 - Tubing Movement | C51: R | D51: Card_Past[2].Tubing_Movement | E51: REAL | F51: =VLOOKUP(E51,'Register Counts'!$A$2:$B$5,2) -> 2 | H51: ir | I51: =CONCATENATE("{'tag_name': '",D51, "', 'register_type': '",H51, "', 'register_number': ",A51, "},") -> {'tag_name': 'Card_Past[2].Tubing_Movement', 'register_type': 'ir', 'register_number': 91},
A52: =A51+F51 -> 93 | B52: Last Stroke 3 - Card Type | C52: R | D52: Card_Past[3].Card_Type | E52: SINT | F52: =VLOOKUP(E52,'Register Counts'!$A$2:$B$5,2) -> 1 | G52: 0=Normal, 1=Shutdown, 2=Alarm | H52: ir | I52: =CONCATENATE("{'tag_name': '",D52, "', 'register_type': '",H52, "', 'register_number': ",A52, "},") -> {'tag_name': 'Card_Past[3].Card_Type', 'register_type': 'ir', 'register_number': 93},
A53: =A52+F52 -> 94 | B53: Last Stroke 3 - Downhole Adjusted Gross Stroke | C53: R | D53: Card_Past[3].Downhole_AdjustedGrossStroke | E53: REAL | F53: =VLOOKUP(E53,'Register Counts'!$A$2:$B$5,2) -> 2 | H53: ir | I53: =CONCATENATE("{'tag_name': '",D53, "', 'register_type': '",H53, "', 'register_number': ",A53, "},") -> {'tag_name': 'Card_Past[3].Downhole_AdjustedGrossStroke', 'register_type': 'ir', 'register_number': 94},
A54: =A53+F53 -> 96 | B54: Last Stroke 3 - Downhole Fluid Load | C54: R | D54: Card_Past[3].Downhole_FluidLoad | E54: REAL | F54: =VLOOKUP(E54,'Register Counts'!$A$2:$B$5,2) -> 2 | H54: ir | I54: =CONCATENATE("{'tag_name': '",D54, "', 'register_type': '",H54, "', 'register_number': ",A54, "},") -> {'tag_name': 'Card_Past[3].Downhole_FluidLoad', 'register_type': 'ir', 'register_number': 96},
A55: =A54+F54 -> 98 | B55: Last Stroke 3 - Downhole Gross Stroke | C55: R | D55: Card_Past[3].Downhole_GrossStroke | E55: REAL | F55: =VLOOKUP(E55,'Register Counts'!$A$2:$B$5,2) -> 2 | H55: ir | I55: =CONCATENATE("{'tag_name': '",D55, "', 'register_type': '",H55, "', 'register_number': ",A55, "},") -> {'tag_name': 'Card_Past[3].Downhole_GrossStroke', 'register_type': 'ir', 'register_number': 98},
A56: =A55+F55 -> 100 | B56: Last Stroke 3 - Downhole Peak Load | C56: R | D56: Card_Past[3].Downhole_Max_Load.Load | E56: REAL | F56: =VLOOKUP(E56,'Register Counts'!$A$2:$B$5,2) -> 2 | H56: ir | I56: =CONCATENATE("{'tag_name': '",D56, "', 'register_type': '",H56, "', 'register_number': ",A56, "},") -> {'tag_name': 'Card_Past[3].Downhole_Max_Load.Load', 'register_type': 'ir', 'register_number': 100},
A57: =A56+F56 -> 102 | B57: Last Stroke 3 - Downhole Max Position | C57: R | D57: Card_Past[3].Downhole_Max_Position.Position | E57: REAL | F57: =VLOOKUP(E57,'Register Counts'!$A$2:$B$5,2) -> 2 | H57: ir | I57: =CONCATENATE("{'tag_name': '",D57, "', 'register_type': '",H57, "', 'register_number': ",A57, "},") -> {'tag_name': 'Card_Past[3].Downhole_Max_Position.Position', 'register_type': 'ir', 'register_number': 102},
A58: =A57+F57 -> 104 | B58: Last Stroke 3 - Downhole Min Load | C58: R | D58: Card_Past[3].Downhole_Min_Load.Load | E58: REAL | F58: =VLOOKUP(E58,'Register Counts'!$A$2:$B$5,2) -> 2 | H58: ir | I58: =CONCATENATE("{'tag_name': '",D58, "', 'register_type': '",H58, "', 'register_number': ",A58, "},") -> {'tag_name': 'Card_Past[3].Downhole_Min_Load.Load', 'register_type': 'ir', 'register_number': 104},
A59: =A58+F58 -> 106 | B59: Last Stroke 3 - Downhole Min Position | C59: R | D59: Card_Past[3].Downhole_Min_Position.Position | E59: REAL | F59: =VLOOKUP(E59,'Register Counts'!$A$2:$B$5,2) -> 2 | H59: ir | I59: =CONCATENATE("{'tag_name': '",D59, "', 'register_type': '",H59, "', 'register_number': ",A59, "},") -> {'tag_name': 'Card_Past[3].Downhole_Min_Position.Position', 'register_type': 'ir', 'register_number': 106},
A60: =A59+F59 -> 108 | B60: Last Stroke 3 - Downhole Net Stroke | C60: R | D60: Card_Past[3].Downhole_NetStroke | E60: REAL | F60: =VLOOKUP(E60,'Register Counts'!$A$2:$B$5,2) -> 2 | H60: ir | I60: =CONCATENATE("{'tag_name': '",D60, "', 'register_type': '",H60, "', 'register_number': ",A60, "},") -> {'tag_name': 'Card_Past[3].Downhole_NetStroke', 'register_type': 'ir', 'register_number': 108},
...

Sheet Holding Registers
A1: Register | B1: Description | C1: Access | D1: Tag | E1: Type | F1: Num Reg | G1: Notes | H1: RegType | I1: JSON
A2: 1 | B2: Data Point Period | C2: RW | D2: _dt | E2: REAL | F2: =VLOOKUP(E2,'Register Counts'!$A$2:$B$5,2) -> 2 | H2: hr | I2: =CONCATENATE("{'tag_name': '",D2, "', 'register_type': '",H2, "', 'register_number': ",A2, "},") -> {'tag_name': '_dt', 'register_type': 'hr', 'register_number': 1},
A3: =A2+F2 -> 3 | B3: Casing ID | C3: RW | D3: Casing_ID | E3: REAL | F3: =VLOOKUP(E3,'Register Counts'!$A$2:$B$5,2) -> 2 | H3: hr | I3: =CONCATENATE("{'tag_name': '",D3, "', 'register_type': '",H3, "', 'register_number': ",A3, "},") -> {'tag_name': 'Casing_ID', 'register_type': 'hr', 'register_number': 3},
A4: =A3+F3 -> 5 | B4: VFD Starting Speed | C4: RW | D4: Drive_Start_Speed | E4: REAL | F4: =VLOOKUP(E4,'Register Counts'!$A$2:$B$5,2) -> 2 | G4: in RPM | H4: hr | I4: =CONCATENATE("{'tag_name': '",D4, "', 'register_type': '",H4, "', 'register_number': ",A4, "},") -> {'tag_name': 'Drive_Start_Speed', 'register_type': 'hr', 'register_number': 5},
A5: =A4+F4 -> 7 | B5: Electricity Cost per kWh | C5: RW | D5: Electricity_Cost | E5: REAL | F5: =VLOOKUP(E5,'Register Counts'!$A$2:$B$5,2) -> 2 | G5: in Dollars | H5: hr | I5: =CONCATENATE("{'tag_name': '",D5, "', 'register_type': '",H5, "', 'register_number': ",A5, "},") -> {'tag_name': 'Electricity_Cost', 'register_type': 'hr', 'register_number': 7},
A6: =A5+F5 -> 9 | B6: Estimated Tubing Movement | C6: RW | D6: Estimated_Tubing_Movement | E6: REAL | F6: =VLOOKUP(E6,'Register Counts'!$A$2:$B$5,2) -> 2 | G6: Estimated by top left corner - bottom left corner | H6: hr | I6: =CONCATENATE("{'tag_name': '",D6, "', 'register_type': '",H6, "', 'register_number': ",A6, "},") -> {'tag_name': 'Estimated_Tubing_Movement', 'register_type': 'hr', 'register_number': 9},
A7: =A6+F6 -> 11 | B7: Fluid Gradient | C7: RW | D7: Fluid_Gradient | E7: REAL | F7: =VLOOKUP(E7,'Register Counts'!$A$2:$B$5,2) -> 2 | G7: in lbs/ft | H7: hr | I7: =CONCATENATE("{'tag_name': '",D7, "', 'register_type': '",H7, "', 'register_number': ",A7, "},") -> {'tag_name': 'Fluid_Gradient', 'register_type': 'hr', 'register_number': 11},
A8: =A7+F7 -> 13 | B8: Friction Estimate | C8: RW | D8: Friction | E8: REAL | F8: =VLOOKUP(E8,'Register Counts'!$A$2:$B$5,2) -> 2 | G8: how much of fluid load is due to friction in well | H8: hr | I8: =CONCATENATE("{'tag_name': '",D8, "', 'register_type': '",H8, "', 'register_number': ",A8, "},") -> {'tag_name': 'Friction', 'register_type': 'hr', 'register_number': 13},
A9: =A8+F8 -> 15 | B9: Gauge Off Time Hour | C9: RW | D9: Gauge_Off_Time.Hour | E9: DINT | F9: =VLOOKUP(E9,'Register Counts'!$A$2:$B$5,2) -> 1 | H9: hr | I9: =CONCATENATE("{'tag_name': '",D9, "', 'register_type': '",H9, "', 'register_number': ",A9, "},") -> {'tag_name': 'Gauge_Off_Time.Hour', 'register_type': 'hr', 'register_number': 15},
A10: =A9+F9 -> 16 | B10: Gauge Off Time Minute | C10: RW | D10: Gauge_Off_Time.Min | E10: DINT | F10: =VLOOKUP(E10,'Register Counts'!$A$2:$B$5,2) -> 1 | H10: hr | I10: =CONCATENATE("{'tag_name': '",D10, "', 'register_type': '",H10, "', 'register_number': ",A10, "},") -> {'tag_name': 'Gauge_Off_Time.Min', 'register_type': 'hr', 'register_number': 16},
A11: =A10+F10 -> 17 | B11: Analog Input 1 - EU High | C11: RW | D11: Input_Analog_1_AIN.Cfg_PVEUMax | E11: REAL | F11: =VLOOKUP(E11,'Register Counts'!$A$2:$B$5,2) -> 2 | H11: hr | I11: =CONCATENATE("{'tag_name': '",D11, "', 'register_type': '",H11, "', 'register_number': ",A11, "},") -> {'tag_name': 'Input_Analog_1_AIN.Cfg_PVEUMax', 'register_type': 'hr', 'register_number': 17},
A12: =A11+F11 -> 19 | B12: Analog Input 1 - EU Low | C12: RW | D12: Input_Analog_1_AIN.Cfg_PVEUMin | E12: REAL | F12: =VLOOKUP(E12,'Register Counts'!$A$2:$B$5,2) -> 2 | H12: hr | I12: =CONCATENATE("{'tag_name': '",D12, "', 'register_type': '",H12, "', 'register_number': ",A12, "},") -> {'tag_name': 'Input_Analog_1_AIN.Cfg_PVEUMin', 'register_type': 'hr', 'register_number': 19},
A13: =A12+F12 -> 21 | B13: Analog Input 2 - EU High | C13: RW | D13: Input_Analog_2_AIN.Cfg_PVEUMax | E13: REAL | F13: =VLOOKUP(E13,'Register Counts'!$A$2:$B$5,2) -> 2 | H13: hr | I13: =CONCATENATE("{'tag_name': '",D13, "', 'register_type': '",H13, "', 'register_number': ",A13, "},") -> {'tag_name': 'Input_Analog_2_AIN.Cfg_PVEUMax', 'register_type': 'hr', 'register_number': 21},
A14: =A13+F13 -> 23 | B14: Analog Input 2 - EU Low | C14: RW | D14: Input_Analog_2_AIN.Cfg_PVEUMin | E14: REAL | F14: =VLOOKUP(E14,'Register Counts'!$A$2:$B$5,2) -> 2 | H14: hr | I14: =CONCATENATE("{'tag_name': '",D14, "', 'register_type': '",H14, "', 'register_number': ",A14, "},") -> {'tag_name': 'Input_Analog_2_AIN.Cfg_PVEUMin', 'register_type': 'hr', 'register_number': 23},
A15: =A14+F14 -> 25 | B15: Analog Input 3 - EU High | C15: RW | D15: Input_Analog_3_AIN.Cfg_PVEUMax | E15: REAL | F15: =VLOOKUP(E15,'Register Counts'!$A$2:$B$5,2) -> 2 | H15: hr | I15: =CONCATENATE("{'tag_name': '",D15, "', 'register_type': '",H15, "', 'register_number': ",A15, "},") -> {'tag_name': 'Input_Analog_3_AIN.Cfg_PVEUMax', 'register_type': 'hr', 'register_number': 25},
A16: =A15+F15 -> 27 | B16: Analog Input 3 - EU Low | C16: RW | D16: Input_Analog_3_AIN.Cfg_PVEUMin | E16: REAL | F16: =VLOOKUP(E16,'Register Counts'!$A$2:$B$5,2) -> 2 | H16: hr | I16: =CONCATENATE("{'tag_name': '",D16, "', 'register_type': '",H16, "', 'register_number': ",A16, "},") -> {'tag_name': 'Input_Analog_3_AIN.Cfg_PVEUMin', 'register_type': 'hr', 'register_number': 27},
A17: =A16+F16 -> 29 | B17: Inclinometer Input - EU High | C17: RW | D17: Input_Inclinometer_AIN.Cfg_PVEUMax | E17: REAL | F17: =VLOOKUP(E17,'Register Counts'!$A$2:$B$5,2) -> 2 | H17: hr | I17: =CONCATENATE("{'tag_name': '",D17, "', 'register_type': '",H17, "', 'register_number': ",A17, "},") -> {'tag_name': 'Input_Inclinometer_AIN.Cfg_PVEUMax', 'register_type': 'hr', 'register_number': 29},
A18: =A17+F17 -> 31 | B18: Inclinometer Input - EU Low | C18: RW | D18: Input_Inclinometer_AIN.Cfg_PVEUMin | E18: REAL | F18: =VLOOKUP(E18,'Register Counts'!$A$2:$B$5,2) -> 2 | H18: hr | I18: =CONCATENATE("{'tag_name': '",D18, "', 'register_type': '",H18, "', 'register_number': ",A18, "},") -> {'tag_name': 'Input_Inclinometer_AIN.Cfg_PVEUMin', 'register_type': 'hr', 'register_number': 31},
A19: =A18+F18 -> 33 | B19: Load Cell Input - EU High | C19: RW | D19: Input_LoadCell_AIN.Cfg_PVEUMax | E19: REAL | F19: =VLOOKUP(E19,'Register Counts'!$A$2:$B$5,2) -> 2 | H19: hr | I19: =CONCATENATE("{'tag_name': '",D19, "', 'register_type': '",H19, "', 'register_number': ",A19, "},") -> {'tag_name': 'Input_LoadCell_AIN.Cfg_PVEUMax', 'register_type': 'hr', 'register_number': 33},
A20: =A19+F19 -> 35 | B20: Load Cell Input - EU Low | C20: RW | D20: Input_LoadCell_AIN.Cfg_PVEUMin | E20: REAL | F20: =VLOOKUP(E20,'Register Counts'!$A$2:$B$5,2) -> 2 | H20: hr | I20: =CONCATENATE("{'tag_name': '",D20, "', 'register_type': '",H20, "', 'register_number': ",A20, "},") -> {'tag_name': 'Input_LoadCell_AIN.Cfg_PVEUMin', 'register_type': 'hr', 'register_number': 35},
A21: =A20+F20 -> 37 | B21: K-Factor | C21: RW | D21: K_Factor | E21: REAL | F21: =VLOOKUP(E21,'Register Counts'!$A$2:$B$5,2) -> 2 | H21: hr | I21: =CONCATENATE("{'tag_name': '",D21, "', 'register_type': '",H21, "', 'register_number': ",A21, "},") -> {'tag_name': 'K_Factor', 'register_type': 'hr', 'register_number': 37},
A22: =A21+F21 -> 39 | B22: Minimum Fluid Load Shutdown Setpoint | C22: RW | D22: Min_Fluid_Load_Shutdown_Setpoint | E22: REAL | F22: =VLOOKUP(E22,'Register Counts'!$A$2:$B$5,2) -> 2 | G22: in % maximum | H22: hr | I22: =CONCATENATE("{'tag_name': '",D22, "', 'register_type': '",H22, "', 'register_number': ",A22, "},") -> {'tag_name': 'Min_Fluid_Load_Shutdown_Setpoint', 'register_type': 'hr', 'register_number': 39},
A23: =A22+F22 -> 41 | B23: Analog Input 1 - Channel | C23: RW | D23: Input_Analog_1.Channel | E23: INT | F23: =VLOOKUP(E23,'Register Counts'!$A$2:$B$5,2) -> 1 | H23: hr | I23: =CONCATENATE("{'tag_name': '",D23, "', 'register_type': '",H23, "', 'register_number': ",A23, "},") -> {'tag_name': 'Input_Analog_1.Channel', 'register_type': 'hr', 'register_number': 41},
A24: =A23+F23 -> 42 | B24: Analog Input 1 - Type | C24: RW | D24: Input_Analog_1.Type | E24: INT | F24: =VLOOKUP(E24,'Register Counts'!$A$2:$B$5,2) -> 1 | G24: 1=Inclinometer, 2=Casing Pressure,3=Tubing Pressure, 4=Flow Line Pressure,5=Flowmeter, 6=Other | H24: hr | I24: =CONCATENATE("{'tag_name': '",D24, "', 'register_type': '",H24, "', 'register_number': ",A24, "},") -> {'tag_name': 'Input_Analog_1.Type', 'register_type': 'hr', 'register_number': 42},
A25: =A24+F24 -> 43 | B25: Analog Input 2 - Channel | C25: RW | D25: Input_Analog_2.Channel | E25: INT | F25: =VLOOKUP(E25,'Register Counts'!$A$2:$B$5,2) -> 1 | H25: hr | I25: =CONCATENATE("{'tag_name': '",D25, "', 'register_type': '",H25, "', 'register_number': ",A25, "},") -> {'tag_name': 'Input_Analog_2.Channel', 'register_type': 'hr', 'register_number': 43},
A26: =A25+F25 -> 44 | B26: Analog Input 2 - Type | C26: RW | D26: Input_Analog_2.Type | E26: INT | F26: =VLOOKUP(E26,'Register Counts'!$A$2:$B$5,2) -> 1 | G26: 1=Inclinometer, 2=Casing Pressure,3=Tubing Pressure, 4=Flow Line Pressure,5=Flowmeter, 6=Other | H26: hr | I26: =CONCATENATE("{'tag_name': '",D26, "', 'register_type': '",H26, "', 'register_number': ",A26, "},") -> {'tag_name': 'Input_Analog_2.Type', 'register_type': 'hr', 'register_number': 44},
A27: =A26+F26 -> 45 | B27: Analog Input 3 - Channel | C27: RW | D27: Input_Analog_3.Channel | E27: INT | F27: =VLOOKUP(E27,'Register Counts'!$A$2:$B$5,2) -> 1 | H27: hr | I27: =CONCATENATE("{'tag_name': '",D27, "', 'register_type': '",H27, "', 'register_number': ",A27, "},") -> {'tag_name': 'Input_Analog_3.Channel', 'register_type': 'hr', 'register_number': 45},
A28: =A27+F27 -> 46 | B28: Analog Input 3 - Type | C28: RW | D28: Input_Analog_3.Type | E28: INT | F28: =VLOOKUP(E28,'Register Counts'!$A$2:$B$5,2) -> 1 | G28: 1=Inclinometer, 2=Casing Pressure,3=Tubing Pressure, 4=Flow Line Pressure,5=Flowmeter, 6=Other | H28: hr | I28: =CONCATENATE("{'tag_name': '",D28, "', 'register_type': '",H28, "', 'register_number': ",A28, "},") -> {'tag_name': 'Input_Analog_3.Type', 'register_type': 'hr', 'register_number': 46},
A29: =A28+F28 -> 47 | B29: Inclinometer Input - Channel | C29: RW | D29: Input_Inclinometer.Channel | E29: INT | F29: =VLOOKUP(E29,'Register Counts'!$A$2:$B$5,2) -> 1 | H29: hr | I29: =CONCATENATE("{'tag_name': '",D29, "', 'register_type': '",H29, "', 'register_number': ",A29, "},") -> {'tag_name': 'Input_Inclinometer.Channel', 'register_type': 'hr', 'register_number': 47},
A30: =A29+F29 -> 48 | B30: Inclinometer Input - Type | C30: RW | D30: Input_Inclinometer.Type | E30: INT | F30: =VLOOKUP(E30,'Register Counts'!$A$2:$B$5,2) -> 1 | H30: hr | I30: =CONCATENATE("{'tag_name': '",D30, "', 'register_type': '",H30, "', 'register_number': ",A30, "},") -> {'tag_name': 'Input_Inclinometer.Type', 'register_type': 'hr', 'register_number': 48},
A31: =A30+F30 -> 49 | B31: Load Cell Input - Channel | C31: RW | D31: Input_LoadCell.Channel | E31: INT | F31: =VLOOKUP(E31,'Register Counts'!$A$2:$B$5,2) -> 1 | H31: hr | I31: =CONCATENATE("{'tag_name': '",D31, "', 'register_type': '",H31, "', 'register_number': ",A31, "},") -> {'tag_name': 'Input_LoadCell.Channel', 'register_type': 'hr', 'register_number': 49},
A32: =A31+F31 -> 50 | B32: Load Cell Input - Type | C32: RW | D32: Input_LoadCell.Type | E32: INT | F32: =VLOOKUP(E32,'Register Counts'!$A$2:$B$5,2) -> 1 | H32: hr | I32: =CONCATENATE("{'tag_name': '",D32, "', 'register_type': '",H32, "', 'register_number': ",A32, "},") -> {'tag_name': 'Input_LoadCell.Type', 'register_type': 'hr', 'register_number': 50},
A33: =A32+F32 -> 51 | B33: Taper 1 Length | C33: RW | D33: Taper.Taper[1].Setup.Length | E33: REAL | F33: =VLOOKUP(E33,'Register Counts'!$A$2:$B$5,2) -> 2 | H33: hr | I33: =CONCATENATE("{'tag_name': '",D33, "', 'register_type': '",H33, "', 'register_number': ",A33, "},") -> {'tag_name': 'Taper.Taper[1].Setup.Length', 'register_type': 'hr', 'register_number': 51},
A34: =A33+F33 -> 53 | B34: Taper 1 Diameter | C34: RW | D34: Taper.Taper[1].Setup.Diameter | E34: REAL | F34: =VLOOKUP(E34,'Register Counts'!$A$2:$B$5,2) -> 2 | H34: hr | I34: =CONCATENATE("{'tag_name': '",D34, "', 'register_type': '",H34, "', 'register_number': ",A34, "},") -> {'tag_name': 'Taper.Taper[1].Setup.Diameter', 'register_type': 'hr', 'register_number': 53},
A35: =A34+F34 -> 55 | B35: Taper 1 Material | C35: RW | D35: Taper.Taper[1].Setup.Material | E35: DINT | F35: =VLOOKUP(E35,'Register Counts'!$A$2:$B$5,2) -> 1 | G35: 1=Steel, 2=Fiberglass | H35: hr | I35: =CONCATENATE("{'tag_name': '",D35, "', 'register_type': '",H35, "', 'register_number': ",A35, "},") -> {'tag_name': 'Taper.Taper[1].Setup.Material', 'register_type': 'hr', 'register_number': 55},
A36: =A35+F35 -> 56 | B36: Taper 2 Length | C36: RW | D36: Taper.Taper[2].Setup.Length | E36: REAL | F36: =VLOOKUP(E36,'Register Counts'!$A$2:$B$5,2) -> 2 | H36: hr | I36: =CONCATENATE("{'tag_name': '",D36, "', 'register_type': '",H36, "', 'register_number': ",A36, "},") -> {'tag_name': 'Taper.Taper[2].Setup.Length', 'register_type': 'hr', 'register_number': 56},
A37: =A36+F36 -> 58 | B37: Taper 2 Diameter | C37: RW | D37: Taper.Taper[2].Setup.Diameter | E37: REAL | F37: =VLOOKUP(E37,'Register Counts'!$A$2:$B$5,2) -> 2 | H37: hr | I37: =CONCATENATE("{'tag_name': '",D37, "', 'register_type': '",H37, "', 'register_number': ",A37, "},") -> {'tag_name': 'Taper.Taper[2].Setup.Diameter', 'register_type': 'hr', 'register_number': 58},
A38: =A37+F37 -> 60 | B38: Taper 2 Material | C38: RW | D38: Taper.Taper[2].Setup.Material | E38: DINT | F38: =VLOOKUP(E38,'Register Counts'!$A$2:$B$5,2) -> 1 | G38: 1=Steel, 2=Fiberglass | H38: hr | I38: =CONCATENATE("{'tag_name': '",D38, "', 'register_type': '",H38, "', 'register_number': ",A38, "},") -> {'tag_name': 'Taper.Taper[2].Setup.Material', 'register_type': 'hr', 'register_number': 60},
A39: =A38+F38 -> 61 | B39: Taper 3 Length | C39: RW | D39: Taper.Taper[3].Setup.Length | E39: REAL | F39: =VLOOKUP(E39,'Register Counts'!$A$2:$B$5,2) -> 2 | H39: hr | I39: =CONCATENATE("{'tag_name': '",D39, "', 'register_type': '",H39, "', 'register_number': ",A39, "},") -> {'tag_name': 'Taper.Taper[3].Setup.Length', 'register_type': 'hr', 'register_number': 61},
A40: =A39+F39 -> 63 | B40: Taper 3 Diameter | C40: RW | D40: Taper.Taper[3].Setup.Diameter | E40: REAL | F40: =VLOOKUP(E40,'Register Counts'!$A$2:$B$5,2) -> 2 | H40: hr | I40: =CONCATENATE("{'tag_name': '",D40, "', 'register_type': '",H40, "', 'register_number': ",A40, "},") -> {'tag_name': 'Taper.Taper[3].Setup.Diameter', 'register_type': 'hr', 'register_number': 63},
...

Sheet Register Counts
A1: Type | B1: Registers
A2: DINT | B2: 1
A3: INT | B3: 1
A4: REAL | B4: 2
A5: SINT | B5: 1

Sheet Register Scheme
A1: Register
A2: X | B2: Scaled Value
A3: X + 1 | B3: Scale Type (0 = multiply, 1 = divide)
A4: X + 2 | B4: Multiplier
A5: X + 3 | B5: Value age
A6: X + 4

Sheet Sanitized
A1: COILS
A2: =Coils!A1 -> Register | B2: =Coils!B1 -> Description | C2: =Coils!C1 -> Access | D2: =Coils!E1 -> Type | E2: =Coils!F1 -> Notes
A3: =Coils!A2 -> 1 | B3: =Coils!B2 -> Terms & Conditions Accepted | C3: =Coils!C2 -> RW | D3: =Coils!E2 -> BOOL
A4: =Coils!A3 -> 2 | B4: =Coils!B3 -> Autotune at next startup | C4: =Coils!C3 -> RW | D4: =Coils!E3 -> BOOL
A5: =Coils!A4 -> 3 | B5: =Coils!B4 -> Gas Interference Override Enabled | C5: =Coils!C4 -> RW | D5: =Coils!E4 -> BOOL
A6: =Coils!A5 -> 4 | B6: =Coils!B5 -> Gauge Off Manual Command | C6: =Coils!C5 -> RW | D6: =Coils!E5 -> BOOL
A7: =Coils!A6 -> 5 | B7: =Coils!B6 -> Initialize | C7: =Coils!C6 -> RW | D7: =Coils!E6 -> BOOL | E7: =Coils!F6 -> resets counters & totals
A8: =Coils!A7 -> 6 | B8: =Coils!B7 -> Analog Input 1 - Enabled | C8: =Coils!C7 -> RW | D8: =Coils!E7 -> BOOL
A9: =Coils!A8 -> 7 | B9: =Coils!B8 -> Analog Input 2 - Enabled | C9: =Coils!C8 -> RW | D9: =Coils!E8 -> BOOL
A10: =Coils!A9 -> 8 | B10: =Coils!B9 -> Analog Input 3 - Enabled | C10: =Coils!C9 -> RW | D10: =Coils!E9 -> BOOL
A11: =Coils!A10 -> 9 | B11: =Coils!B10 -> Calibrate Inclinometer Command | C11: =Coils!C10 -> RW | D11: =Coils!E10 -> BOOL
A12: =Coils!A11 -> 10 | B12: =Coils!B11 -> Inclinometer Input - Enabled | C12: =Coils!C11 -> RW | D12: =Coils!E11 -> BOOL
A13: =Coils!A12 -> 11 | B13: =Coils!B12 -> Load Cell Input - Enabled | C13: =Coils!C12 -> RW | D13: =Coils!E12 -> BOOL
A14: =Coils!A13 -> 12 | B14: =Coils!B13 -> Minimum Fluid Load Shutdown Enabled | C14: =Coils!C13 -> RW | D14: =Coils!E13 -> BOOL
A15: =Coils!A14 -> 13 | B15: =Coils!B14 -> Restart After Fault Allowed | C15: =Coils!C14 -> RW | D15: =Coils!E14 -> BOOL
A16: =Coils!A15 -> 14 | B16: =Coils!B15 -> Update Tapers | C16: =Coils!C15 -> RW | D16: =Coils!E15 -> BOOL
A17: =Coils!A16 -> 15 | B17: =Coils!B16 -> Use Wireless Load Cell | C17: =Coils!C16 -> RW | D17: =Coils!E16 -> BOOL
A18: =Coils!A17 -> 16 | B18: =Coils!B17 -> Write VFD Mode Data | C18: =Coils!C17 -> RW | D18: =Coils!E17 -> BOOL
A19: =Coils!A18 -> 17 | B19: =Coils!B18 -> Write VFD Nameplate Data | C19: =Coils!C18 -> RW | D19: =Coils!E18 -> BOOL
... A21: =Coils!A20 -> 19 | B21: =Coils!B20 -> Stop Command | C21: =Coils!C20 -> RW | D21: =Coils!E20 -> BOOL
A24: DISCRETE INPUTS
A25: ='Digital Input'!A1 -> Register | B25: ='Digital Input'!B1 -> Description | C25: ='Digital Input'!C1 -> Access | D25: ='Digital Input'!E1 -> Type | E25: ='Digital Input'!H1 -> Notes
A26: ='Digital Input'!A2 -> 1 | B26: ='Digital Input'!B2 -> Inclinometer is Calibrating | C26: ='Digital Input'!C2 -> R | D26: ='Digital Input'!E2 -> BOOL
A27: ='Digital Input'!A3 -> 2 | B27: ='Digital Input'!B3 -> Inclinometer Stale Value | C27: ='Digital Input'!C3 -> R | D27: ='Digital Input'!E3 -> BOOL
A30: HOLDING REGISTERS
A31: ='Holding Registers'!A1 -> Register | B31: ='Holding Registers'!B1 -> Description | C31: ='Holding Registers'!C1 -> Access | D31: ='Holding Registers'!E1 -> Type | E31: ='Holding Registers'!G1 -> Notes
A32: ='Holding Registers'!A2 -> 1 | B32: ='Holding Registers'!B2 -> Data Point Period | C32: ='Holding Registers'!C2 -> RW | D32: ='Holding Registers'!E2 -> REAL
A33: ='Holding Registers'!A3 -> 3 | B33: ='Holding Registers'!B3 -> Casing ID | C33: ='Holding Registers'!C3 -> RW | D33: ='Holding Registers'!E3 -> REAL
A34: ='Holding Registers'!A4 -> 5 | B34: ='Holding Registers'!B4 -> VFD Starting Speed | C34: ='Holding Registers'!C4 -> RW | D34: ='Holding Registers'!E4 -> REAL | E34: ='Holding Registers'!G4 -> in RPM
A35: ='Holding Registers'!A5 -> 7 | B35: ='Holding Registers'!B5 -> Electricity Cost per kWh | C35: ='Holding Registers'!C5 -> RW | D35: ='Holding Registers'!E5 -> REAL | E35: ='Holding Registers'!G5 -> in Dollars
A36: ='Holding Registers'!A6 -> 9 | B36: ='Holding Registers'!B6 -> Estimated Tubing Movement | C36: ='Holding Registers'!C6 -> RW | D36: ='Holding Registers'!E6 -> REAL | E36: ='Holding Registers'!G6 -> Estimated by top left corner - bottom left corner
A37: ='Holding Registers'!A7 -> 11 | B37: ='Holding Registers'!B7 -> Fluid Gradient | C37: ='Holding Registers'!C7 -> RW | D37: ='Holding Registers'!E7 -> REAL | E37: ='Holding Registers'!G7 -> in lbs/ft
A38: ='Holding Registers'!A8 -> 13 | B38: ='Holding Registers'!B8 -> Friction Estimate | C38: ='Holding Registers'!C8 -> RW | D38: ='Holding Registers'!E8 -> REAL | E38: ='Holding Registers'!G8 -> how much of fluid load is due to friction in well
A39: ='Holding Registers'!A9 -> 15 | B39: ='Holding Registers'!B9 -> Gauge Off Time Hour | C39: ='Holding Registers'!C9 -> RW | D39: ='Holding Registers'!E9 -> DINT
A40: ='Holding Registers'!A10 -> 16 | B40: ='Holding Registers'!B10 -> Gauge Off Time Minute | C40: ='Holding Registers'!C10 -> RW | D40: ='Holding Registers'!E10 -> DINT
A41: ='Holding Registers'!A11 -> 17 | B41: ='Holding Registers'!B11 -> Analog Input 1 - EU High | C41: ='Holding Registers'!C11 -> RW | D41: ='Holding Registers'!E11 -> REAL
A42: ='Holding Registers'!A12 -> 19 | B42: ='Holding Registers'!B12 -> Analog Input 1 - EU Low | C42: ='Holding Registers'!C12 -> RW | D42: ='Holding Registers'!E12 -> REAL
A43: ='Holding Registers'!A13 -> 21 | B43: ='Holding Registers'!B13 -> Analog Input 2 - EU High | C43: ='Holding Registers'!C13 -> RW | D43: ='Holding Registers'!E13 -> REAL
A44: ='Holding Registers'!A14 -> 23 | B44: ='Holding Registers'!B14 -> Analog Input 2 - EU Low | C44: ='Holding Registers'!C14 -> RW | D44: ='Holding Registers'!E14 -> REAL
A45: ='Holding Registers'!A15 -> 25 | B45: ='Holding Registers'!B15 -> Analog Input 3 - EU High | C45: ='Holding Registers'!C15 -> RW | D45: ='Holding Registers'!E15 -> REAL
...
