Workbook

Sheet Coils
A1: Register | B1: Description | C1: Access | D1: Tag | E1: Type | F1: Notes | G1: RegType | H1: JSON
A2: 1 | B2: Terms & Conditions Accepted | C2: RW | D2: _TOC_ACCEPTED | E2: BOOL | G2: co | H2: =CONCATENATE("{'tag_name': '",D2, "', 'register_type': '",G2, "', 'register_number': ",A2, "},") -> {'tag_name': '_TOC_ACCEPTED', 'register_type': 'co', 'register_number': 1},
A3: =A2+1 -> 2 | B3: Autotune at next startup | C3: RW | D3: Autotune_Next_Start | E3: BOOL | G3: co | H3: =CONCATENATE("{'tag_name': '",D3, "', 'register_type': '",G3, "', 'register_number': ",A3, "},") -> {'tag_name': 'Autotune_Next_Start', 'register_type': 'co', 'register_number': 2},
A4: =A3+1 -> 3 | B4: Gas Interference Override Enabled | C4: RW | D4: Gas_Interference_Override_Enabled | E4: BOOL | G4: co | H4: =CONCATENATE("{'tag_name': '",D4, "', 'register_type': '",G4, "', 'register_number': ",A4, "},") -> {'tag_name': 'Gas_Interference_Override_Enabled', 'register_type': 'co', 'register_number': 3},
A5: =A4+1 -> 4 | B5: Gauge Off Manual Command | C5: RW | D5: Gauge_Off_Manual | E5: BOOL | G5: co | H5: =CONCATENATE("{'tag_name': '",D5, "', 'register_type': '",G5, "', 'register_number': ",A5, "},") -> {'tag_name': 'Gauge_Off_Manual', 'register_type': 'co', 'register_number': 4},
A6: =A5+1 -> 5 | B6: Initialize | C6: RW | D6: Initialize | E6: BOOL | F6: resets counters & totals | G6: co | H6: =CONCATENATE("{'tag_name': '",D6, "', 'register_type': '",G6, "', 'register_number': ",A6, "},") -> {'tag_name': 'Initialize', 'register_type': 'co', 'register_number': 5},
A7: =A6+1 -> 6 | B7: Analog Input 1 - Enabled | C7: RW | D7: Input_Analog_1.Enabled | E7: BOOL | G7: co | H7: =CONCATENATE("{'tag_name': '",D7, "', 'register_type': '",G7, "', 'register_number': ",A7, "},") -> {'tag_name': 'Input_Analog_1.Enabled', 'register_type': 'co', 'register_number': 6},
A8: =A7+1 -> 7 | B8: Analog Input 2 - Enabled | C8: RW | D8: Input_Analog_2.Enabled | E8: BOOL | G8: co | H8: =CONCATENATE("{'tag_name': '",D8, "', 'register_type': '",G8, "', 'register_number': ",A8, "},") -> {'tag_name': 'Input_Analog_2.Enabled', 'register_type': 'co', 'register_number': 7},
A9: =A8+1 -> 8 | B9: Analog Input 3 - Enabled | C9: RW | D9: Input_Analog_3.Enabled | E9: BOOL | G9: co | H9: =CONCATENATE("{'tag_name': '",D9, "', 'register_type': '",G9, "', 'register_number': ",A9, "},") -> {'tag_name': 'Input_Analog_3.Enabled', 'register_type': 'co', 'register_number': 8},
A10: =A9+1 -> 9 | B10: Calibrate Inclinometer Command | C10: RW | D10: Input_Inclinometer_Calibrate | E10: BOOL | G10: co | H10: =CONCATENATE("{'tag_name': '",D10, "', 'register_type': '",G10, "', 'register_number': ",A10, "},") -> {'tag_name': 'Input_Inclinometer_Calibrate', 'register_type': 'co', 'register_number': 9},
A11: =A10+1 -> 10 | B11: Inclinometer Input - Enabled | C11: RW | D11: Input_Inclinometer.Enabled | E11: BOOL | G11: co | H11: =CONCATENATE("{'tag_name': '",D11, "', 'register_type': '",G11, "', 'register_number': ",A11, "},") -> {'tag_name': 'Input_Inclinometer.Enabled', 'register_type': 'co', 'register_number': 10},
A12: =A11+1 -> 11 | B12: Load Cell Input - Enabled | C12: RW | D12: Input_LoadCell.Enabled | E12: BOOL | G12: co | H12: =CONCATENATE("{'tag_name': '",D12, "', 'register_type': '",G12, "', 'register_number': ",A12, "},") -> {'tag_name': 'Input_LoadCell.Enabled', 'register_type': 'co', 'register_number': 11},
A13: =A12+1 -> 12 | B13: Minimum Fluid Load Shutdown Enabled | C13: RW | D13: Min_Fluid_Load_Shutdown_Enabled | E13: BOOL | G13: co | H13: =CONCATENATE("{'tag_name': '",D13, "', 'register_type': '",G13, "', 'register_number': ",A13, "},") -> {'tag_name': 'Min_Fluid_Load_Shutdown_Enabled', 'register_type': 'co', 'register_number': 12},
A14: =A13+1 -> 13 | B14: Restart After Fault Allowed | C14: RW | D14: Restart_After_Fault_Allowed | E14: BOOL | G14: co | H14: =CONCATENATE("{'tag_name': '",D14, "', 'register_type': '",G14, "', 'register_number': ",A14, "},") -> {'tag_name': 'Restart_After_Fault_Allowed', 'register_type': 'co', 'register_number': 13},
A15: =A14+1 -> 14 | B15: Update Tapers | C15: RW | D15: Update_Tapers | E15: BOOL | G15: co | H15: =CONCATENATE("{'tag_name': '",D15, "', 'register_type': '",G15, "', 'register_number': ",A15, "},") -> {'tag_name': 'Update_Tapers', 'register_type': 'co', 'register_number': 14},
A16: =A15+1 -> 15 | B16: Use Wireless Load Cell | C16: RW | D16: USE_WIRELESS_LOADCELL | E16: BOOL | G16: co | H16: =CONCATENATE("{'tag_name': '",D16, "', 'register_type': '",G16, "', 'register_number': ",A16, "},") -> {'tag_name': 'USE_WIRELESS_LOADCELL', 'register_type': 'co', 'register_number': 15},
A17: =A16+1 -> 16 | B17: Write VFD Mode Data | C17: RW | D17: Write_Mode_Data | E17: BOOL | G17: co | H17: =CONCATENATE("{'tag_name': '",D17, "', 'register_type': '",G17, "', 'register_number': ",A17, "},") -> {'tag_name': 'Write_Mode_Data', 'register_type': 'co', 'register_number': 16},
A18: =A17+1 -> 17 | B18: Write VFD Nameplate Data | C18: RW | D18: Write_Setup_Data | E18: BOOL | G18: co | H18: =CONCATENATE("{'tag_name': '",D18, "', 'register_type': '",G18, "', 'register_number': ",A18, "},") -> {'tag_name': 'Write_Setup_Data', 'register_type': 'co', 'register_number': 17},
... A20: =A19+1 -> 19 | B20: Stop Command | C20: RW | D20: Pump.Stop | E20: BOOL | G20: co | H20: =CONCATENATE("{'tag_name': '",D20, "', 'register_type': '",G20, "', 'register_number': ",A20, "},") -> {'tag_name': 'Pump.Stop', 'register_type': 'co', 'register_number': 19},

Sheet Digital Input
A1: Register | B1: Description | C1: Access | D1: Tag | E1: Type | F1: READ CODE | G1: WRITE CODE | H1: Notes | I1: RegType | J1: JSON
A2: 1 | B2: Inclinometer is Calibrating | C2: R | D2: Inclinometer_Calibrating | E2: BOOL | F2: =VLOOKUP(CONCATENATE(E2,"_",C2),#REF!,2) -> #REF! | G2: =VLOOKUP(CONCATENATE(E2,"_",C2),#REF!,3) -> #REF! | I2: di | J2: =CONCATENATE("{'tag_name': '",D2, "', 'register_type': '",I2, "', 'register_number': ",A2, "},") -> {'tag_name': 'Inclinometer_Calibrating', 'register_type': 'di', 'register_number': 1},
A3: =A2+1 -> 2 | B3: Inclinometer Stale Value | C3: R | D3: Inclinometer_Stale | E3: BOOL | F3: =VLOOKUP(CONCATENATE(E3,"_",C3),#REF!,2) -> #REF! | G3: =VLOOKUP(CONCATENATE(E3,"_",C3),#REF!,3) -> #REF! | I3: di | J3: =CONCATENATE("{'tag_name': '",D3, "', 'register_type': '",I3, "', 'register_number': ",A3, "},") -> {'tag_name': 'Inclinometer_Stale', 'register_type': 'di', 'register_number': 2},

Sheet Input Registers
A1: Register | B1: Description | C1: Access | D1: Tag | E1: Type | F1: Reg Count | G1: Notes | H1: RegType | I1: JSON
A2: 1 | B2: Firmware Revision | C2: R | D2: _Firmware_Rev | E2: INT | F2: =VLOOKUP(E2,'Register Counts'!$A$2:$B$5,2) -> 1 | G2: Firmware Rev of the PLC | H2: ir | I2: =CONCATENATE("{'tag_name': '",D2, "', 'register_type': '",H2, "', 'register_number': ",A2, "},") -> {'tag_name': '_Firmware_Rev', 'register_type': 'ir', 'register_number': 1},
A3: =A2+F2 -> 2 | B3: Program Revision | C3: R | D3: _Program_Firmware | E3: INT | F3: =VLOOKUP(E3,'Register Counts'!$A$2:$B$5,2) -> 1 | G3: **** NEED TO CHANGE TO INT | H3: ir | I3: =CONCATENATE("{'tag_name': '",D3, "', 'register_type': '",H3, "', 'register_number': ",A3, "},") -> {'tag_name': '_Program_Firmware', 'register_type': 'ir', 'register_number': 2},
A4: =A3+F3 -> 3 | B4: Last Stroke 1 - Card Type | C4: R | D4: Card_Past[1].Card_Type | E4: SINT | F4: =VLOOKUP(E4,'Register Counts'!$A$2:$B$5,2) -> 1 | G4: 0=Normal, 1=Shutdown, 2=Alarm | H4: ir | I4: =CONCATENATE("{'tag_name': '",D4, "', 'register_type': '",H4, "', 'register_number': ",A4, "},") -> {'tag_name': 'Card_Past[1].Card_Type', 'register_type': 'ir', 'register_number': 3},
A5: =A4+F4 -> 4 | B5: Last Stroke 1 - Downhole Adjusted Gross Stroke | C5: R | D5: Card_Past[1].Downhole_AdjustedGrossStroke | E5: REAL | F5: =VLOOKUP(E5,'Register Counts'!$A$2:$B$5,2) -> 2 | H5: ir | I5: =CONCATENATE("{'tag_name': '",D5, "', 'register_type': '",H5, "', 'register_number': ",A5, "},") -> {'tag_name': 'Card_Past[1].Downhole_AdjustedGrossStroke', 'register_type': 'ir', 'register_number': 4},
A6: =A5+F5 -> 6 | B6: Last Stroke 1 - Downhole Fluid Load | C6: R | D6: Card_Past[1].Downhole_FluidLoad | E6: REAL | F6: =VLOOKUP(E6,'Register Counts'!$A$2:$B$5,2) -> 2 | H6: ir | I6: =CONCATENATE("{'tag_name': '",D6, "', 'register_type': '",H6, "', 'register_number': ",A6, "},") -> {'tag_name': 'Card_Past[1].Downhole_FluidLoad', 'register_type': 'ir', 'register_number': 6},
A7: =A6+F6 -> 8 | B7: Last Stroke 1 - Downhole Gross Stroke | C7: R | D7: Card_Past[1].Downhole_GrossStroke | E7: REAL | F7: =VLOOKUP(E7,'Register Counts'!$A$2:$B$5,2) -> 2 | H7: ir | I7: =CONCATENATE("{'tag_name': '",D7, "', 'register_type': '",H7, "', 'register_number': ",A7, "},") -> {'tag_name': 'Card_Past[1].Downhole_GrossStroke', 'register_type': 'ir', 'register_number': 8},
A8: =A7+F7 -> 10 | B8: Last Stroke 1 - Downhole Peak Load | C8: R | D8: Card_Past[1].Downhole_Max_Load.Load | E8: REAL | F8: =VLOOKUP(E8,'Register Counts'!$A$2:$B$5,2) -> 2 | H8: ir | I8: =CONCATENATE("{'tag_name': '",D8, "', 'register_type': '",H8, "', 'register_number': ",A8, "},") -> {'tag_name': 'Card_Past[1].Downhole_Max_Load.Load', 'register_type': 'ir', 'register_number': 10},
A9: =A8+F8 -> 12 | B9: Last Stroke 1 - Downhole Max Position | C9: R | D9: Card_Past[1].Downhole_Max_Position.Position | E9: REAL | F9: =VLOOKUP(E9,'Register Counts'!$A$2:$B$5,2) -> 2 | H9: ir | I9: =CONCATENATE("{'tag_name': '",D9, "', 'register_type': '",H9, "', 'register_number': ",A9, "},") -> {'tag_name': 'Card_Past[1].Downhole_Max_Position.Position', 'register_type': 'ir', 'register_number': 12},
A10: =A9+F9 -> 14 | B10: Last Stroke 1 - Downhole Min Load | C10: R | D10: Card_Past[1].Downhole_Min_Load.Load | E10: REAL | F10: =VLOOKUP(E10,'Register Counts'!$A$2:$B$5,2) -> 2 | H10: ir | I10: =CONCATENATE("{'tag_name': '",D10, "', 'register_type': '",H10, "', 'register_number': ",A10, "},") -> {'tag_name': 'Card_Past[1].Downhole_Min_Load.Load', 'register_type': 'ir', 'register_number': 14},
A11: =A10+F10 -> 16 | B11: Last Stroke 1 - Downhole Min Position | C11: R | D11: Card_Past[1].Downhole_Min_Position.Position | E11: REAL | F11: =VLOOKUP(E11,'Register Counts'!$A$2:$B$5,2) -> 2 | H11: ir | I11: =CONCATENATE("{'tag_name': '",D11, "', 'register_type': '",H11, "', 'register_number': ",A11, "},") -> {'tag_name': 'Card_Past[1].Downhole_Min_Position.Position', 'register_type': 'ir', 'register_number': 16},
A12: =A11+F11 -> 18 | B12: Last Stroke 1 - Downhole Net Stroke | C12: R | D12: Card_Past[1].Downhole_NetStroke | E12: REAL | F12: =VLOOKUP(E12,'Register Counts'!$A$2:$B$5,2) -> 2 | H12: ir | I12: =CONCATENATE("{'tag_name': '",D12, "', 'register_type': '",H12, "', 'register_number': ",A12, "},") -> {'tag_name': 'Card_Past[1].Downhole_NetStroke', 'register_type': 'ir', 'register_number': 18},
A13: =A12+F12 -> 20 | B13: Last Stroke 1 - Pump Fill Percent | C13: R | D13: Card_Past[1].Fillage_Percent | E13: REAL | F13: =VLOOKUP(E13,'Register Counts'!$A$2:$B$5,2) -> 2 | H13: ir | I13: =CONCATENATE("{'tag_name': '",D13, "', 'register_type': '",H13, "', 'register_number': ",A13, "},") -> {'tag_name': 'Card_Past[1].Fillage_Percent', 'register_type': 'ir', 'register_number': 20},
A14: =A13+F13 -> 22 | B14: Last Stroke 1 - Fluid Level | C14: R | D14: Card_Past[1].Fluid_Above_Pump | E14: REAL | F14: =VLOOKUP(E14,'Register Counts'!$A$2:$B$5,2) -> 2 | H14: ir | I14: =CONCATENATE("{'tag_name': '",D14, "', 'register_type': '",H14, "', 'register_number': ",A14, "},") -> {'tag_name': 'Card_Past[1].Fluid_Above_Pump', 'register_type': 'ir', 'register_number': 22},
A15: =A14+F14 -> 24 | B15: Last Stroke 1 - Fluid Moved | C15: R | D15: Card_Past[1].Fluid_Moved | E15: REAL | F15: =VLOOKUP(E15,'Register Counts'!$A$2:$B$5,2) -> 2 | H15: ir | I15: =CONCATENATE("{'tag_name': '",D15, "', 'register_type': '",H15, "', 'register_number': ",A15, "},") -> {'tag_name': 'Card_Past[1].Fluid_Moved', 'register_type': 'ir', 'register_number': 24},
A16: =A15+F15 -> 26 | B16: Last Stroke 1 - Stroke Number | C16: R | D16: Card_Past[1].ID | E16: DINT | F16: =VLOOKUP(E16,'Register Counts'!$A$2:$B$5,2) -> 1 | H16: ir | I16: =CONCATENATE("{'tag_name': '",D16, "', 'register_type': '",H16, "', 'register_number': ",A16, "},") -> {'tag_name': 'Card_Past[1].ID', 'register_type': 'ir', 'register_number': 26},
... A27: =A26+F26 -> 46 | B27: Last Stroke 1 - Tubing Movement | C27: R | D27: Card_Past[1].Tubing_Movement | E27: REAL | F27: =VLOOKUP(E27,'Register Counts'!$A$2:$B$5,2) -> 2 | H27: ir | I27: =CONCATENATE("{'tag_name': '",D27, "', 'register_type': '",H27, "', 'register_number': ",A27, "},") -> {'tag_name': 'Card_Past[1].Tubing_Movement', 'register_type': 'ir', 'register_number': 46},
A28: =A27+F27 -> 48 | B28: Last Stroke 2 - Card Type | C28: R | D28: Card_Past[2].Card_Type | E28: SINT | F28: =VLOOKUP(E28,'Register Counts'!$A$2:$B$5,2) -> 1 | G28: 0=Normal, 1=Shutdown, 2=Alarm | H28: ir | I28: =CONCATENATE("{'tag_name': '",D28, "', 'register_type': '",H28, "', 'register_number': ",A28, "},") -> {'tag_name': 'Card_Past[2].Card_Type', 'register_type': 'ir', 'register_number': 48},
A29: =A28+F28 -> 49 | B29: Last Stroke 2 - Downhole Adjusted Gross Stroke | C29: R | D29: Card_Past[2].Downhole_AdjustedGrossStroke | E29: REAL | F29: =VLOOKUP(E29,'Register Counts'!$A$2:$B$5,2) -> 2 | H29: ir | I29: =CONCATENATE("{'tag_name': '",D29, "', 'register_type': '",H29, "', 'register_number': ",A29, "},") -> {'tag_name': 'Card_Past[2].Downhole_AdjustedGrossStroke', 'register_type': 'ir', 'register_number': 49},
A30: =A29+F29 -> 51 | B30: Last Stroke 2 - Downhole Fluid Load | C30: R | D30: Card_Past[2].Downhole_FluidLoad | E30: REAL | F30: =VLOOKUP(E30,'Register Counts'!$A$2:$B$5,2) -> 2 | H30: ir | I30: =CONCATENATE("{'tag_name': '",D30, "', 'register_type': '",H30, "', 'register_number': ",A30, "},") -> {'tag_name': 'Card_Past[2].Downhole_FluidLoad', 'register_type': 'ir', 'register_number': 51},
A31: =A30+F30 -> 53 | B31: Last Stroke 2 - Downhole Gross Stroke | C31: R | D31: Card_Past[2].Downhole_GrossStroke | E31: REAL | F31: =VLOOKUP(E31,'Register Counts'!$A$2:$B$5,2) -> 2 | H31: ir | I31: =CONCATENATE("{'tag_name': '",D31, "', 'register_type': '",H31, "', 'register_number': ",A31, "},") -> {'tag_name': 'Card_Past[2].Downhole_GrossStroke', 'register_type': 'ir', 'register_number': 53},
A32: =A31+F31 -> 55 | B32: Last Stroke 2 - Downhole Peak Load | C32: R | D32: Card_Past[2].Downhole_Max_Load.Load | E32: REAL | F32: =VLOOKUP(E32,'Register Counts'!$A$2:$B$5,2) -> 2 | H32: ir | I32: =CONCATENATE("{'tag_name': '",D32, "', 'register_type': '",H32, "', 'register_number': ",A32, "},") -> {'tag_name': 'Card_Past[2].Downhole_Max_Load.Load', 'register_type': 'ir', 'register_number': 55},
A33: =A32+F32 -> 57 | B33: Last Stroke 2 - Downhole Max Position | C33: R | D33: Card_Past[2].Downhole_Max_Position.Position | E33: REAL | F33: =VLOOKUP(E33,'Register Counts'!$A$2:$B$5,2) -> 2 | H33: ir | I33: =CONCATENATE("{'tag_name': '",D33, "', 'register_type': '",H33, "', 'register_number': ",A33, "},") -> {'tag_name': 'Card_Past[2].Downhole_Max_Position.Position', 'register_type': 'ir', 'register_number': 57},
A34: =A33+F33 -> 59 | B34: Last Stroke 2 - Downhole Min Load | C34: R | D34: Card_Past[2].Downhole_Min_Load.Load | E34: REAL | F34: =VLOOKUP(E34,'Register Counts'!$A$2:$B$5,2) -> 2 | H34: ir | I34: =CONCATENATE("{'tag_name': '",D34, "', 'register_type': '",H34, "', 'register_number': ",A34, "},") -> {'tag_name': 'Card_Past[2].Downhole_Min_Load.Load', 'register_type': 'ir', 'register_number': 59},
A35: =A34+F34 -> 61 | B35: Last Stroke 2 - Downhole Min Position | C35: R | D35: Card_Past[2].Downhole_Min_Position.Position | E35: REAL | F35: =VLOOKUP(E35,'Register Counts'!$A$2:$B$5,2) -> 2 | H35: ir | I35: =CONCATENATE("{'tag_name': '",D35, "', 'register_type': '",H35, "', 'register_number': ",A35, "},") -> {'tag_name': 'Card_Past[2].Downhole_Min_Position.Position', 'register_type': 'ir', 'register_number': 61},
A36: =A35+F35 -> 63 | B36: Last Stroke 2 - Downhole Net Stroke | C36: R | D36: Card_Past[2].Downhole_NetStroke | E36: REAL | F36: =VLOOKUP(E36,'Register Counts'!$A$2:$B$5,2) -> 2 | H36: ir | I36: =CONCATENATE("{'tag_name': '",D36, "', 'register_type': '",H36, "', 'register_number': ",A36, "},") -> {'tag_name': 'Card_Past[2].Downhole_NetStroke', 'register_type': 'ir', 'register_number': 63},
A37: =A36+F36 -> 65 | B37: Last Stroke 2 - Pump Fill Percent | C37: R | D37: Card_Past[2].Fillage_Percent | E37: REAL | F37: =VLOOKUP(E37,'Register Counts'!$A$2:$B$5,2) -> 2 | H37: ir | I37: =CONCATENATE("{'tag_name': '",D37, "', 'register_type': '",H37, "', 'register_number': ",A37, "},") -> {'tag_name': 'Card_Past[2].Fillage_Percent', 'register_type': 'ir', 'register_number': 65},
A38: =A37+F37 -> 67 | B38: Last Stroke 2 - Fluid Level | C38: R | D38: Card_Past[2].Fluid_Above_Pump | E38: REAL | F38: =VLOOKUP(E38,'Register Counts'!$A$2:$B$5,2) -> 2 | H38: ir | I38: =CONCATENATE("{'tag_name': '",D38, "', 'register_type': '",H38, "', 'register_number': ",A38, "},") -> {'tag_name': 'Card_Past[2].Fluid_Above_Pump', 'register_type': 'ir', 'register_number': 67},
A39: =A38+F38 -> 69 | B39: Last Stroke 2 - Fluid Moved | C39: R | D39: Card_Past[2].Fluid_Moved | E39: REAL | F39: =VLOOKUP(E39,'Register Counts'!$A$2:$B$5,2) -> 2 | H39: ir | I39: =CONCATENATE("{'tag_name': '",D39, "', 'register_type': '",H39, "', 'register_number': ",A39, "},") -> {'tag_name': 'Card_Past[2].Fluid_Moved', 'register_type': 'ir', 'register_number': 69},
A40: =A39+F39 -> 71 | B40: Last Stroke 2 - Stroke Number | C40: R | D40: Card_Past[2].ID | E40: DINT | F40: =VLOOKUP(E40,'Register Counts'!$A$2:$B$5,2) -> 1 | H40: ir | I40: =CONCATENATE("{'tag_name': '",D40, "', 'register_type': '",H40, "', 'register_number': ",A40, "},") -> {'tag_name': 'Card_Past[2].ID', 'register_type': 'ir', 'register_number': 71},
... A51: =A50+F50 -> 91 | B51: Last Stroke 2 - Tubing Movement | C51: R | D51: Card_Past[2].Tubing_Movement | E51: REAL | F51: =VLOOKUP(E51,'Register Counts'!$A$2:$B$5,2) -> 2 | H51: ir | I51: =CONCATENATE("{'tag_name': '",D51, "', 'register_type': '",H51, "', 'register_number': ",A51, "},") -> {'tag_name': 'Card_Past[2].Tubing_Movement', 'register_type': 'ir', 'register_number': 91},
A52: =A51+F51 -> 93 | B52: Last Stroke 3 - Card Type | C52: R | D52: Card_Past[3].Card_Type | E52: SINT | F52: =VLOOKUP(E52,'Register Counts'!$A$2:$B$5,2) -> 1 | G52: 0=Normal, 1=Shutdown, 2=Alarm | H52: ir | I52: =CONCATENATE("{'tag_name': '",D52, "', 'register_type': '",H52, "', 'register_number': ",A52, "},") -> {'tag_name': 'Card_Past[3].Card_Type', 'register_type': 'ir', 'register_number': 93},
A53: =A52+F52 -> 94 | B53: Last Stroke 3 - Downhole Adjusted Gross Stroke | C53: R | D53: Card_Past[3].Downhole_AdjustedGrossStroke | E53: REAL | F53: =VLOOKUP(E53,'Register Counts'!$A$2:$B$5,2) -> 2 | H53: ir | I53: =CONCATENATE("{'tag_name': '",D53, "', 'register_type': '",H53, "', 'register_number': ",A53, "},") -> {'tag_name': 'Card_Past[3].Downhole_AdjustedGrossStroke', 'register_type': 'ir', 'register_number': 94},
A54: =A53+F53 -> 96 | B54: Last Stroke 3 - Downhole Fluid Load | C54: R | D54: Card_Past[3].Downhole_FluidLoad | E54: REAL | F54: =VLOOKUP(E54,'Register Counts'!$A$2:$B$5,2) -> 2 | H54: ir | I54: =CONCATENATE("{'tag_name': '",D54, "', 'register_type': '",H54, "', 'register_number': ",A54, "},") -> {'tag_name': 'Card_Past[3].Downhole_FluidLoad', 'register_type': 'ir', 'register_number': 96},
A55: =A54+F54 -> 98 | B55: Last Stroke 3 - Downhole Gross Stroke | C55: R | D55: Card_Past[3].Downhole_GrossStroke | E55: REAL | F55: =VLOOKUP(E55,'Register Counts'!$A$2:$B$5,2) -> 2 | H55: ir | I55: =CONCATENATE("{'tag_name': '",D55, "', 'register_type': '",H55, "', 'register_number': ",A55, "},") -> {'tag_name': 'Card_Past[3].Downhole_GrossStroke', 'register_type': 'ir', 'register_number': 98},
A56: =A55+F55 -> 100 | B56: Last Stroke 3 - Downhole Peak Load | C56: R | D56: Card_Past[3].Downhole_Max_Load.Load | E56: REAL | F56: =VLOOKUP(E56,'Register Counts'!$A$2:$B$5,2) -> 2 | H56: ir | I56: =CONCATENATE("{'tag_name': '",D56, "', 'register_type': '",H56, "', 'register_number': ",A56, "},") -> {'tag_name': 'Card_Past[3].Downhole_Max_Load.Load', 'register_type': 'ir', 'register_number': 100},
A57: =A56+F56 -> 102 | B57: Last Stroke 3 - Downhole Max Position | C57: R | D57: Card_Past[3].Downhole_Max_Position.Position | E57: REAL | F57: =VLOOKUP(E57,'Register Counts'!$A$2:$B$5,2) -> 2 | H57: ir | I57: =CONCATENATE("{'tag_name': '",D57, "', 'register_type': '",H57, "', 'register_number': ",A57, "},") -> {'tag_name': 'Card_Past[3].Downhole_Max_Position.Position', 'register_type': 'ir', 'register_number': 102},
A58: =A57+F57 -> 104 | B58: Last Stroke 3 - Downhole Min Load | C58: R | D58: Card_Past[3].Downhole_Min_Load.Load | E58: REAL | F58: =VLOOKUP(E58,'Register Counts'!$A$2:$B$5,2) -> 2 | H58: ir | I58: =CONCATENATE("{'tag_name': '",D58, "', 'register_type': '",H58, "', 'register_number': ",A58, "},") -> {'tag_name': 'Card_Past[3].Downhole_Min_Load.Load', 'register_type': 'ir', 'register_number': 104},
A59: =A58+F58 -> 106 | B59: Last Stroke 3 - Downhole Min Position | C59: R | D59: Card_Past[3].Downhole_Min_Position.Position | E59: REAL | F59: =VLOOKUP(E59,'Register Counts'!$A$2:$B$5,2) -> 2 | H59: ir | I59: =CONCATENATE("{'tag_name': '",D59, "', 'register_type': '",H59, "', 'register_number': ",A59, "},") -> {'tag_name': 'Card_Past[3].Downhole_Min_Position.Position', 'register_type': 'ir', 'register_number': 106},
A60: =A59+F59 -> 108 | B60: Last Stroke 3 - Downhole Net Stroke | C60: R | D60: Card_Past[3].Downhole_NetStroke | E60: REAL | F60: =VLOOKUP(E60,'Register Counts'!$A$2:$B$5,2) -> 2 | H60: ir | I60: =CONCATENATE("{'tag_name': '",D60, "', 'register_type': '",H60, "', 'register_number': ",A60, "},") -> {'tag_name': 'Card_Past[3].Downhole_NetStroke', 'register_type': 'ir', 'register_number': 108},
A61: =A60+F60 -> 110 | B61: Last Stroke 3 - Pump Fill Percent | C61: R | D61: Card_Past[3].Fillage_Percent | E61: REAL | F61: =VLOOKUP(E61,'Register Counts'!$A$2:$B$5,2) -> 2 | H61: ir | I61: =CONCATENATE("{'tag_name': '",D61, "', 'register_type': '",H61, "', 'register_number': ",A61, "},") -> {'tag_name': 'Card_Past[3].Fillage_Percent', 'register_type': 'ir', 'register_number': 110},
A62: =A61+F61 -> 112 | B62: Last Stroke 3 - Fluid Level | C62: R | D62: Card_Past[3].Fluid_Above_Pump | E62: REAL | F62: =VLOOKUP(E62,'Register Counts'!$A$2:$B$5,2) -> 2 | H62: ir | I62: =CONCATENATE("{'tag_name': '",D62, "', 'register_type': '",H62, "', 'register_number': ",A62, "},") -> {'tag_name': 'Card_Past[3].Fluid_Above_Pump', 'register_type': 'ir', 'register_number': 112},
A63: =A62+F62 -> 114 | B63: Last Stroke 3 - Fluid Moved | C63: R | D63: Card_Past[3].Fluid_Moved | E63: REAL | F63: =VLOOKUP(E63,'Register Counts'!$A$2:$B$5,2) -> 2 | H63: ir | I63: =CONCATENATE("{'tag_name': '",D63, "', 'register_type': '",H63, "', 'register_number': ",A63, "},") -> {'tag_name': 'Card_Past[3].Fluid_Moved', 'register_type': 'ir', 'register_number': 114},
A64: =A63+F63 -> 116 | B64: Last Stroke 3 - Stroke Number | C64: R | D64: Card_Past[3].ID | E64: DINT | F64: =VLOOKUP(E64,'Register Counts'!$A$2:$B$5,2) -> 1 | H64: ir | I64: =CONCATENATE("{'tag_name': '",D64, "', 'register_type': '",H64, "', 'register_number': ",A64, "},") -> {'tag_name': 'Card_Past[3].ID', 'register_type': 'ir', 'register_number': 116},
... A75: =A74+F74 -> 136 | B75: Last Stroke 3 - Tubing Movement | C75: R | D75: Card_Past[3].Tubing_Movement | E75: REAL | F75: =VLOOKUP(E75,'Register Counts'!$A$2:$B$5,2) -> 2 | H75: ir | I75: =CONCATENATE("{'tag_name': '",D75, "', 'register_type': '",H75, "', 'register_number': ",A75, "},") -> {'tag_name': 'Card_Past[3].Tubing_Movement', 'register_type': 'ir', 'register_number': 136},
A76: =A75+F75 -> 138 | B76: Last Stroke 4 - Card Type | C76: R | D76: Card_Past[4].Card_Type | E76: SINT | F76: =VLOOKUP(E76,'Register Counts'!$A$2:$B$5,2) -> 1 | G76: 0=Normal, 1=Shutdown, 2=Alarm | H76: ir | I76: =CONCATENATE("{'tag_name': '",D76, "', 'register_type': '",H76, "', 'register_number': ",A76, "},") -> {'tag_name': 'Card_Past[4].Card_Type', 'register_type': 'ir', 'register_number': 138},
A77: =A76+F76 -> 139 | B77: Last Stroke 4 - Downhole Adjusted Gross Stroke | C77: R | D77: Card_Past[4].Downhole_AdjustedGrossStroke | E77: REAL | F77: =VLOOKUP(E77,'Register Counts'!$A$2:$B$5,2) -> 2 | H77: ir | I77: =CONCATENATE("{'tag_name': '",D77, "', 'register_type': '",H77, "', 'register_number': ",A77, "},") -> {'tag_name': 'Card_Past[4].Downhole_AdjustedGrossStroke', 'register_type': 'ir', 'register_number': 139},
A78: =A77+F77 -> 141 | B78: Last Stroke 4 - Downhole Fluid Load | C78: R | D78: Card_Past[4].Downhole_FluidLoad | E78: REAL | F78: =VLOOKUP(E78,'Register Counts'!$A$2:$B$5,2) -> 2 | H78: ir | I78: =CONCATENATE("{'tag_name': '",D78, "', 'register_type': '",H78, "', 'register_number': ",A78, "},") -> {'tag_name': 'Card_Past[4].Downhole_FluidLoad', 'register_type': 'ir', 'register_number': 141},
A79: =A78+F78 -> 143 | B79: Last Stroke 4 - Downhole Gross Stroke | C79: R | D79: Card_Past[4].Downhole_GrossStroke | E79: REAL | F79: =VLOOKUP(E79,'Register Counts'!$A$2:$B$5,2) -> 2 | H79: ir | I79: =CONCATENATE("{'tag_name': '",D79, "', 'register_type': '",H79, "', 'register_number': ",A79, "},") -> {'tag_name': 'Card_Past[4].Downhole_GrossStroke', 'register_type': 'ir', 'register_number': 143},
A80: =A79+F79 -> 145 | B80: Last Stroke 4 - Downhole Peak Load | C80: R | D80: Card_Past[4].Downhole_Max_Load.Load | E80: REAL | F80: =VLOOKUP(E80,'Register Counts'!$A$2:$B$5,2) -> 2 | H80: ir | I80: =CONCATENATE("{'tag_name': '",D80, "', 'register_type': '",H80, "', 'register_number': ",A80, "},") -> {'tag_name': 'Card_Past[4].Downhole_Max_Load.Load', 'register_type': 'ir', 'register_number': 145},
A81: =A80+F80 -> 147 | B81: Last Stroke 4 - Downhole Max Position | C81: R | D81: Card_Past[4].Downhole_Max_Position.Position | E81: REAL | F81: =VLOOKUP(E81,'Register Counts'!$A$2:$B$5,2) -> 2 | H81: ir | I81: =CONCATENATE("{'tag_name': '",D81, "', 'register_type': '",H81, "', 'register_number': ",A81, "},") -> {'tag_name': 'Card_Past[4].Downhole_Max_Position.Position', 'register_type': 'ir', 'register_number': 147},
A82: =A81+F81 -> 149 | B82: Last Stroke 4 - Downhole Min Load | C82: R | D82: Card_Past[4].Downhole_Min_Load.Load | E82: REAL | F82: =VLOOKUP(E82,'Register Counts'!$A$2:$B$5,2) -> 2 | H82: ir | I82: =CONCATENATE("{'tag_name': '",D82, "', 'register_type': '",H82, "', 'register_number': ",A82, "},") -> {'tag_name': 'Card_Past[4].Downhole_Min_Load.Load', 'register_type': 'ir', 'register_number': 149},
A83: =A82+F82 -> 151 | B83: Last Stroke 4 - Downhole Min Position | C83: R | D83: Card_Past[4].Downhole_Min_Position.Position | E83: REAL | F83: =VLOOKUP(E83,'Register Counts'!$A$2:$B$5,2) -> 2 | H83: ir | I83: =CONCATENATE("{'tag_name': '",D83, "', 'register_type': '",H83, "', 'register_number': ",A83, "},") -> {'tag_name': 'Card_Past[4].Downhole_Min_Position.Position', 'register_type': 'ir', 'register_number': 151},
A84: =A83+F83 -> 153 | B84: Last Stroke 4 - Downhole Net Stroke | C84: R | D84: Card_Past[4].Downhole_NetStroke | E84: REAL | F84: =VLOOKUP(E84,'Register Counts'!$A$2:$B$5,2) -> 2 | H84: ir | I84: =CONCATENATE("{'tag_name': '",D84, "', 'register_type': '",H84, "', 'register_number': ",A84, "},") -> {'tag_name': 'Card_Past[4].Downhole_NetStroke', 'register_type': 'ir', 'register_number': 153},
A85: =A84+F84 -> 155 | B85: Last Stroke 4 - Pump Fill Percent | C85: R | D85: Card_Past[4].Fillage_Percent | E85: REAL | F85: =VLOOKUP(E85,'Register Counts'!$A$2:$B$5,2) -> 2 | H85: ir | I85: =CONCATENATE("{'tag_name': '",D85, "', 'register_type': '",H85, "', 'register_number': ",A85, "},") -> {'tag_name': 'Card_Past[4].Fillage_Percent', 'register_type': 'ir', 'register_number': 155},
A86: =A85+F85 -> 157 | B86: Last Stroke 4 - Fluid Level | C86: R | D86: Card_Past[4].Fluid_Above_Pump | E86: REAL | F86: =VLOOKUP(E86,'Register Counts'!$A$2:$B$5,2) -> 2 | H86: ir | I86: =CONCATENATE("{'tag_name': '",D86, "', 'register_type': '",H86, "', 'register_number': ",A86, "},") -> {'tag_name': 'Card_Past[4].Fluid_Above_Pump', 'register_type': 'ir', 'register_number': 157},
A87: =A86+F86 -> 159 | B87: Last Stroke 4 - Fluid Moved | C87: R | D87: Card_Past[4].Fluid_Moved | E87: REAL | F87: =VLOOKUP(E87,'Register Counts'!$A$2:$B$5,2) -> 2 | H87: ir | I87: =CONCATENATE("{'tag_name': '",D87, "', 'register_type': '",H87, "', 'register_number': ",A87, "},") -> {'tag_name': 'Card_Past[4].Fluid_Moved', 'register_type': 'ir', 'register_number': 159},
A88: =A87+F87 -> 161 | B88: Last Stroke 4 - Stroke Number | C88: R | D88: Card_Past[4].ID | E88: DINT | F88: =VLOOKUP(E88,'Register Counts'!$A$2:$B$5,2) -> 1 | H88: ir | I88: =CONCATENATE("{'tag_name': '",D88, "', 'register_type': '",H88, "', 'register_number': ",A88, "},") -> {'tag_name': 'Card_Past[4].ID', 'register_type': 'ir', 'register_number': 161},
... A116: =A115+F115 -> 215 | B116: Yesterday's Average Surface Stroke Length | C116: R | D116: GAUGEOFF_Surface_StrokeLength | E116: REAL | F116: =VLOOKUP(E116,'Register Counts'!$A$2:$B$5,2) -> 2 | H116: ir | I116: =CONCATENATE("{'tag_name': '",D116, "', 'register_type': '",H116, "', 'register_number': ",A116, "},") -> {'tag_name': 'GAUGEOFF_Surface_StrokeLength', 'register_type': 'ir', 'register_number': 215},
A117: =A116+F116 -> 217 | B117: Yesterday's Calculated Production | C117: R | D117: GAUGEOFF_Production_Calculated | E117: REAL | F117: 2 | H117: ir | I117: =CONCATENATE("{'tag_name': '",D117, "', 'register_type': '",H117, "', 'register_number': ",A117, "},") -> {'tag_name': 'GAUGEOFF_Production_Calculated', 'register_type': 'ir', 'register_number': 217},
A118: =A117+F117 -> 219 | B118: Yesterday's Average Tubing Movement | C118: R | D118: GAUGEOFF_Tubing_Movement | E118: REAL | F118: =VLOOKUP(E118,'Register Counts'!$A$2:$B$5,2) -> 2 | H118: ir | I118: =CONCATENATE("{'tag_name': '",D118, "', 'register_type': '",H118, "', 'register_number': ",A118, "},") -> {'tag_name': 'GAUGEOFF_Tubing_Movement', 'register_type': 'ir', 'register_number': 219},
A119: =A118+F118 -> 221 | B119: Instantaneous Gearbox Loading | C119: R | D119: Gearbox_Loading | E119: REAL | F119: =VLOOKUP(E119,'Register Counts'!$A$2:$B$5,2) -> 2 | G119: % | H119: ir | I119: =CONCATENATE("{'tag_name': '",D119, "', 'register_type': '",H119, "', 'register_number': ",A119, "},") -> {'tag_name': 'Gearbox_Loading', 'register_type': 'ir', 'register_number': 221},
A120: =A119+F119 -> 223 | B120: Instantaneous Gearbox Torque | C120: R | D120: Gearbox_Torque | E120: REAL | F120: =VLOOKUP(E120,'Register Counts'!$A$2:$B$5,2) -> 2 | H120: ir | I120: =CONCATENATE("{'tag_name': '",D120, "', 'register_type': '",H120, "', 'register_number': ",A120, "},") -> {'tag_name': 'Gearbox_Torque', 'register_type': 'ir', 'register_number': 223},
A121: =A120+F120 -> 225 | B121: Analog Input 1 - Value | C121: R | D121: Input_Analog_1_AIN.Val | E121: REAL | F121: =VLOOKUP(E121,'Register Counts'!$A$2:$B$5,2) -> 2 | H121: ir | I121: =CONCATENATE("{'tag_name': '",D121, "', 'register_type': '",H121, "', 'register_number': ",A121, "},") -> {'tag_name': 'Input_Analog_1_AIN.Val', 'register_type': 'ir', 'register_number': 225},
A122: =A121+F121 -> 227 | B122: Analog Input 2 - Value | C122: R | D122: Input_Analog_2_AIN.Val | E122: REAL | F122: =VLOOKUP(E122,'Register Counts'!$A$2:$B$5,2) -> 2 | H122: ir | I122: =CONCATENATE("{'tag_name': '",D122, "', 'register_type': '",H122, "', 'register_number': ",A122, "},") -> {'tag_name': 'Input_Analog_2_AIN.Val', 'register_type': 'ir', 'register_number': 227},
A123: =A122+F122 -> 229 | B123: Analog Input 3 - Value | C123: R | D123: Input_Analog_3_AIN.Val | E123: REAL | F123: =VLOOKUP(E123,'Register Counts'!$A$2:$B$5,2) -> 2 | H123: ir | I123: =CONCATENATE("{'tag_name': '",D123, "', 'register_type': '",H123, "', 'register_number': ",A123, "},") -> {'tag_name': 'Input_Analog_3_AIN.Val', 'register_type': 'ir', 'register_number': 229},
A124: =A123+F123 -> 231 | B124: Instantaneous SPM | C124: R | D124: Instantaneous_SPM | E124: REAL | F124: =VLOOKUP(E124,'Register Counts'!$A$2:$B$5,2) -> 2 | H124: ir | I124: =CONCATENATE("{'tag_name': '",D124, "', 'register_type': '",H124, "', 'register_number': ",A124, "},") -> {'tag_name': 'Instantaneous_SPM', 'register_type': 'ir', 'register_number': 231},
A125: =A124+F124 -> 233 | B125: Today's kWh usage | C125: R | D125: kWh_Today | E125: REAL | F125: =VLOOKUP(E125,'Register Counts'!$A$2:$B$5,2) -> 2 | H125: ir | I125: =CONCATENATE("{'tag_name': '",D125, "', 'register_type': '",H125, "', 'register_number': ",A125, "},") -> {'tag_name': 'kWh_Today', 'register_type': 'ir', 'register_number': 233},
A126: =A125+F125 -> 235 | B126: Max. Theoretical Fluid Load | C126: R | D126: Max_Theoretical_Fluid_Load | E126: REAL | F126: =VLOOKUP(E126,'Register Counts'!$A$2:$B$5,2) -> 2 | H126: ir | I126: =CONCATENATE("{'tag_name': '",D126, "', 'register_type': '",H126, "', 'register_number': ",A126, "},") -> {'tag_name': 'Max_Theoretical_Fluid_Load', 'register_type': 'ir', 'register_number': 235},
A127: =A126+F126 -> 237 | B127: Instantaneous Motor Torque | C127: R | D127: Motor_Torque | E127: REAL | F127: =VLOOKUP(E127,'Register Counts'!$A$2:$B$5,2) -> 2 | H127: ir | I127: =CONCATENATE("{'tag_name': '",D127, "', 'register_type': '",H127, "', 'register_number': ",A127, "},") -> {'tag_name': 'Motor_Torque', 'register_type': 'ir', 'register_number': 237},
A128: =A127+F127 -> 239 | B128: Run Status | C128: R | D128: Pump.Run_Status | E128: DINT | F128: =VLOOKUP(E128,'Register Counts'!$A$2:$B$5,2) -> 1 | H128: ir | I128: =CONCATENATE("{'tag_name': '",D128, "', 'register_type': '",H128, "', 'register_number': ",A128, "},") -> {'tag_name': 'Pump.Run_Status', 'register_type': 'ir', 'register_number': 239},
A129: =A128+F128 -> 240 | B129: Actual SPM | C129: R | D129: Pump.Speed_Actual_SPM | E129: REAL | F129: =VLOOKUP(E129,'Register Counts'!$A$2:$B$5,2) -> 2 | H129: ir | I129: =CONCATENATE("{'tag_name': '",D129, "', 'register_type': '",H129, "', 'register_number': ",A129, "},") -> {'tag_name': 'Pump.Speed_Actual_SPM', 'register_type': 'ir', 'register_number': 240},
A130: =A129+F129 -> 242 | B130: Pump Intake Pressure | C130: R | D130: Pump_Intake_Pressure | E130: REAL | F130: =VLOOKUP(E130,'Register Counts'!$A$2:$B$5,2) -> 2 | H130: ir | I130: =CONCATENATE("{'tag_name': '",D130, "', 'register_type': '",H130, "', 'register_number': ",A130, "},") -> {'tag_name': 'Pump_Intake_Pressure', 'register_type': 'ir', 'register_number': 242},
A131: =A130+F130 -> 244 | B131: Today's Calculated Production | C131: R | D131: TODAY_Production_Calculated | E131: REAL | F131: 2 | H131: ir | I131: =CONCATENATE("{'tag_name': '",D131, "', 'register_type': '",H131, "', 'register_number': ",A131, "},") -> {'tag_name': 'TODAY_Production_Calculated', 'register_type': 'ir', 'register_number': 244},
A132: =A131+F131 -> 246 | B132: Today's Projected Production | C132: R | D132: TODAY_Production_Projected | E132: REAL | F132: 2 | H132: ir | I132: =CONCATENATE("{'tag_name': '",D132, "', 'register_type': '",H132, "', 'register_number': ",A132, "},") -> {'tag_name': 'TODAY_Production_Projected', 'register_type': 'ir', 'register_number': 246},
A133: =A132+F132 -> 248 | B133: Today's Percent Run | C133: R | D133: TODAY_Percent_Run | E133: REAL | F133: 2 | H133: ir | I133: =CONCATENATE("{'tag_name': '",D133, "', 'register_type': '",H133, "', 'register_number': ",A133, "},") -> {'tag_name': 'TODAY_Percent_Run', 'register_type': 'ir', 'register_number': 248},
A134: =A133+F133 -> 250 | B134: Fluid Load | C134: R | D134: Card_Past[1].Downhole_FluidLoad | E134: REAL | F134: 2 | H134: ir | I134: =CONCATENATE("{'tag_name': '",D134, "', 'register_type': '",H134, "', 'register_number': ",A134, "},") -> {'tag_name': 'Card_Past[1].Downhole_FluidLoad', 'register_type': 'ir', 'register_number': 250},
A135: =A134+F134 -> 252 | B135: Last Stroke 1 - Surface Position | C135: R | D135: Card_Past[1].Surface_Position | E135: ARRAY | F135: 1500 | H135: ir | I135: =CONCATENATE("{'tag_name': '",D135, "', 'register_type': '",H135, "', 'register_number': ",A135, ", 'arr_len': 750},") -> {'tag_name': 'Card_Past[1].Surface_Position', 'register_type': 'ir', 'register_number': 252, 'arr_len': 750},
A136: =A135+F135 -> 1752 | B136: Last Stroke 2 - Surface Position | C136: R | D136: Card_Past[2].Surface_Position | E136: ARRAY | F136: 1500 | H136: ir | I136: =CONCATENATE("{'tag_name': '",D136, "', 'register_type': '",H136, "', 'register_number': ",A136, ", 'arr_len': 750},") -> {'tag_name': 'Card_Past[2].Surface_Position', 'register_type': 'ir', 'register_number': 1752, 'arr_len': 750},
A137: =A136+F136 -> 3252 | B137: Last Stroke 3 - Surface Position | C137: R | D137: Card_Past[3].Surface_Position | E137: ARRAY | F137: 1500 | H137: ir | I137: =CONCATENATE("{'tag_name': '",D137, "', 'register_type': '",H137, "', 'register_number': ",A137, ", 'arr_len': 750},") -> {'tag_name': 'Card_Past[3].Surface_Position', 'register_type': 'ir', 'register_number': 3252, 'arr_len': 750},
A138: =A137+F137 -> 4752 | B138: Last Stroke 4 - Surface Position | C138: R | D138: Card_Past[4].Surface_Position | E138: ARRAY | F138: 1500 | H138: ir | I138: =CONCATENATE("{'tag_name': '",D138, "', 'register_type': '",H138, "', 'register_number': ",A138, ", 'arr_len': 750},") -> {'tag_name': 'Card_Past[4].Surface_Position', 'register_type': 'ir', 'register_number': 4752, 'arr_len': 750},
A139: =A138+F138 -> 6252 | B139: Last Stroke 1 - Surface Load | C139: R | D139: Card_Past[1].Surface_Load | E139: ARRAY | F139: 1500 | H139: ir | I139: =CONCATENATE("{'tag_name': '",D139, "', 'register_type': '",H139, "', 'register_number': ",A139, ", 'arr_len': 750},") -> {'tag_name': 'Card_Past[1].Surface_Load', 'register_type': 'ir', 'register_number': 6252, 'arr_len': 750},
A140: =A139+F139 -> 7752 | B140: Last Stroke 2 - Surface Load | C140: R | D140: Card_Past[2].Surface_Load | E140: ARRAY | F140: 1500 | H140: ir | I140: =CONCATENATE("{'tag_name': '",D140, "', 'register_type': '",H140, "', 'register_number': ",A140, ", 'arr_len': 750},") -> {'tag_name': 'Card_Past[2].Surface_Load', 'register_type': 'ir', 'register_number': 7752, 'arr_len': 750},
A141: =A140+F140 -> 9252 | B141: Last Stroke 3 - Surface Load | C141: R | D141: Card_Past[3].Surface_Load | E141: ARRAY | F141: 1500 | H141: ir | I141: =CONCATENATE("{'tag_name': '",D141, "', 'register_type': '",H141, "', 'register_number': ",A141, ", 'arr_len': 750},") -> {'tag_name': 'Card_Past[3].Surface_Load', 'register_type': 'ir', 'register_number': 9252, 'arr_len': 750},
A142: =A141+F141 -> 10752 | B142: Last Stroke 4 - Surface Load | C142: R | D142: Card_Past[4].Surface_Load | E142: ARRAY | F142: 1500 | H142: ir | I142: =CONCATENATE("{'tag_name': '",D142, "', 'register_type': '",H142, "', 'register_number': ",A142, ", 'arr_len': 750},") -> {'tag_name': 'Card_Past[4].Surface_Load', 'register_type': 'ir', 'register_number': 10752, 'arr_len': 750},
A143: =A142+F142 -> 12252 | B143: Last Stroke 1 - Downhole Position | C143: R | D143: Card_Past[1].Downhole_Position | E143: ARRAY | F143: 1500 | H143: ir | I143: =CONCATENATE("{'tag_name': '",D143, "', 'register_type': '",H143, "', 'register_number': ",A143, ", 'arr_len': 750},") -> {'tag_name': 'Card_Past[1].Downhole_Position', 'register_type': 'ir', 'register_number': 12252, 'arr_len': 750},
A144: =A143+F143 -> 13752 | B144: Last Stroke 2 - Downhole Position | C144: R | D144: Card_Past[2].Downhole_Position | E144: ARRAY | F144: 1500 | H144: ir | I144: =CONCATENATE("{'tag_name': '",D144, "', 'register_type': '",H144, "', 'register_number': ",A144, ", 'arr_len': 750},") -> {'tag_name': 'Card_Past[2].Downhole_Position', 'register_type': 'ir', 'register_number': 13752, 'arr_len': 750},
A145: =A144+F144 -> 15252 | B145: Last Stroke 3 - Downhole Position | C145: R | D145: Card_Past[3].Downhole_Position | E145: ARRAY | F145: 1500 | H145: ir | I145: =CONCATENATE("{'tag_name': '",D145, "', 'register_type': '",H145, "', 'register_number': ",A145, ", 'arr_len': 750},") -> {'tag_name': 'Card_Past[3].Downhole_Position', 'register_type': 'ir', 'register_number': 15252, 'arr_len': 750},
A146: =A145+F145 -> 16752 | B146: Last Stroke 4 - Downhole Position | C146: R | D146: Card_Past[4].Downhole_Position | E146: ARRAY | F146: 1500 | H146: ir | I146: =CONCATENATE("{'tag_name': '",D146, "', 'register_type': '",H146, "', 'register_number': ",A146, ", 'arr_len': 750},") -> {'tag_name': 'Card_Past[4].Downhole_Position', 'register_type': 'ir', 'register_number': 16752, 'arr_len': 750},
... A150: =A149+F149 -> 22752 | B150: Last Stroke 4 - Downhole Load | C150: R | D150: Card_Past[4].Downhole_Load | E150: ARRAY | F150: 1500 | H150: ir | I150: =CONCATENATE("{'tag_name': '",D150, "', 'register_type': '",H150, "', 'register_number': ",A150, ", 'arr_len': 750},") -> {'tag_name': 'Card_Past[4].Downhole_Load', 'register_type': 'ir', 'register_number': 22752, 'arr_len': 750},

Sheet Holding Registers
A1: Register | B1: Description | C1: Access | D1: Tag | E1: Type | F1: Num Reg | G1: Notes | H1: RegType | I1: JSON
A2: 1 | B2: Data Point Period | C2: RW | D2: _dt | E2: REAL | F2: =VLOOKUP(E2,'Register Counts'!$A$2:$B$5,2) -> 2 | H2: hr | I2: =CONCATENATE("{'tag_name': '",D2, "', 'register_type': '",H2, "', 'register_number': ",A2, "},") -> {'tag_name': '_dt', 'register_type': 'hr', 'register_number': 1},
A3: =A2+F2 -> 3 | B3: Casing ID | C3: RW | D3: Casing_ID | E3: REAL | F3: =VLOOKUP(E3,'Register Counts'!$A$2:$B$5,2) -> 2 | H3: hr | I3: =CONCATENATE("{'tag_name': '",D3, "', 'register_type': '",H3, "', 'register_number': ",A3, "},") -> {'tag_name': 'Casing_ID', 'register_type': 'hr', 'register_number': 3},
A4: =A3+F3 -> 5 | B4: VFD Starting Speed | C4: RW | D4: Drive_Start_Speed | E4: REAL | F4: =VLOOKUP(E4,'Register Counts'!$A$2:$B$5,2) -> 2 | G4: in RPM | H4: hr | I4: =CONCATENATE("{'tag_name': '",D4, "', 'register_type': '",H4, "', 'register_number': ",A4, "},") -> {'tag_name': 'Drive_Start_Speed', 'register_type': 'hr', 'register_number': 5},
A5: =A4+F4 -> 7 | B5: Electricity Cost per kWh | C5: RW | D5: Electricity_Cost | E5: REAL | F5: =VLOOKUP(E5,'Register Counts'!$A$2:$B$5,2) -> 2 | G5: in Dollars | H5: hr | I5: =CONCATENATE("{'tag_name': '",D5, "', 'register_type': '",H5, "', 'register_number': ",A5, "},") -> {'tag_name': 'Electricity_Cost', 'register_type': 'hr', 'register_number': 7},
A6: =A5+F5 -> 9 | B6: Estimated Tubing Movement | C6: RW | D6: Estimated_Tubing_Movement | E6: REAL | F6: =VLOOKUP(E6,'Register Counts'!$A$2:$B$5,2) -> 2 | G6: Estimated by top left corner - bottom left corner | H6: hr | I6: =CONCATENATE("{'tag_name': '",D6, "', 'register_type': '",H6, "', 'register_number': ",A6, "},") -> {'tag_name': 'Estimated_Tubing_Movement', 'register_type': 'hr', 'register_number': 9},
A7: =A6+F6 -> 11 | B7: Fluid Gradient | C7: RW | D7: Fluid_Gradient | E7: REAL | F7: =VLOOKUP(E7,'Register Counts'!$A$2:$B$5,2) -> 2 | G7: in lbs/ft | H7: hr | I7: =CONCATENATE("{'tag_name': '",D7, "', 'register_type': '",H7, "', 'register_number': ",A7, "},") -> {'tag_name': 'Fluid_Gradient', 'register_type': 'hr', 'register_number': 11},
A8: =A7+F7 -> 13 | B8: Friction Estimate | C8: RW | D8: Friction | E8: REAL | F8: =VLOOKUP(E8,'Register Counts'!$A$2:$B$5,2) -> 2 | G8: how much of fluid load is due to friction in well | H8: hr | I8: =CONCATENATE("{'tag_name': '",D8, "', 'register_type': '",H8, "', 'register_number': ",A8, "},") -> {'tag_name': 'Friction', 'register_type': 'hr', 'register_number': 13},
A9: =A8+F8 -> 15 | B9: Gauge Off Time Hour | C9: RW | D9: Gauge_Off_Time.Hour | E9: DINT | F9: =VLOOKUP(E9,'Register Counts'!$A$2:$B$5,2) -> 1 | H9: hr | I9: =CONCATENATE("{'tag_name': '",D9, "', 'register_type': '",H9, "', 'register_number': ",A9, "},") -> {'tag_name': 'Gauge_Off_Time.Hour', 'register_type': 'hr', 'register_number': 15},
A10: =A9+F9 -> 16 | B10: Gauge Off Time Minute | C10: RW | D10: Gauge_Off_Time.Min | E10: DINT | F10: =VLOOKUP(E10,'Register Counts'!$A$2:$B$5,2) -> 1 | H10: hr | I10: =CONCATENATE("{'tag_name': '",D10, "', 'register_type': '",H10, "', 'register_number': ",A10, "},") -> {'tag_name': 'Gauge_Off_Time.Min', 'register_type': 'hr', 'register_number': 16},
A11: =A10+F10 -> 17 | B11: Analog Input 1 - EU High | C11: RW | D11: Input_Analog_1_AIN.Cfg_PVEUMax | E11: REAL | F11: =VLOOKUP(E11,'Register Counts'!$A$2:$B$5,2) -> 2 | H11: hr | I11: =CONCATENATE("{'tag_name': '",D11, "', 'register_type': '",H11, "', 'register_number': ",A11, "},") -> {'tag_name': 'Input_Analog_1_AIN.Cfg_PVEUMax', 'register_type': 'hr', 'register_number': 17},
A12: =A11+F11 -> 19 | B12: Analog Input 1 - EU Low | C12: RW | D12: Input_Analog_1_AIN.Cfg_PVEUMin | E12: REAL | F12: =VLOOKUP(E12,'Register Counts'!$A$2:$B$5,2) -> 2 | H12: hr | I12: =CONCATENATE("{'tag_name': '",D12, "', 'register_type': '",H12, "', 'register_number': ",A12, "},") -> {'tag_name': 'Input_Analog_1_AIN.Cfg_PVEUMin', 'register_type': 'hr', 'register_number': 19},
A13: =A12+F12 -> 21 | B13: Analog Input 2 - EU High | C13: RW | D13: Input_Analog_2_AIN.Cfg_PVEUMax | E13: REAL | F13: =VLOOKUP(E13,'Register Counts'!$A$2:$B$5,2) -> 2 | H13: hr | I13: =CONCATENATE("{'tag_name': '",D13, "', 'register_type': '",H13, "', 'register_number': ",A13, "},") -> {'tag_name': 'Input_Analog_2_AIN.Cfg_PVEUMax', 'register_type': 'hr', 'register_number': 21},
A14: =A13+F13 -> 23 | B14: Analog Input 2 - EU Low | C14: RW | D14: Input_Analog_2_AIN.Cfg_PVEUMin | E14: REAL | F14: =VLOOKUP(E14,'Register Counts'!$A$2:$B$5,2) -> 2 | H14: hr | I14: =CONCATENATE("{'tag_name': '",D14, "', 'register_type': '",H14, "', 'register_number': ",A14, "},") -> {'tag_name': 'Input_Analog_2_AIN.Cfg_PVEUMin', 'register_type': 'hr', 'register_number': 23},
A15: =A14+F14 -> 25 | B15: Analog Input 3 - EU High | C15: RW | D15: Input_Analog_3_AIN.Cfg_PVEUMax | E15: REAL | F15: =VLOOKUP(E15,'Register Counts'!$A$2:$B$5,2) -> 2 | H15: hr | I15: =CONCATENATE("{'tag_name': '",D15, "', 'register_type': '",H15, "', 'register_number': ",A15, "},") -> {'tag_name': 'Input_Analog_3_AIN.Cfg_PVEUMax', 'register_type': 'hr', 'register_number': 25},
A16: =A15+F15 -> 27 | B16: Analog Input 3 - EU Low | C16: RW | D16: Input_Analog_3_AIN.Cfg_PVEUMin | E16: REAL | F16: =VLOOKUP(E16,'Register Counts'!$A$2:$B$5,2) -> 2 | H16: hr | I16: =CONCATENATE("{'tag_name': '",D16, "', 'register_type': '",H16, "', 'register_number': ",A16, "},") -> {'tag_name': 'Input_Analog_3_AIN.Cfg_PVEUMin', 'register_type': 'hr', 'register_number': 27},
A17: =A16+F16 -> 29 | B17: Inclinometer Input - EU High | C17: RW | D17: Input_Inclinometer_AIN.Cfg_PVEUMax | E17: REAL | F17: =VLOOKUP(E17,'Register Counts'!$A$2:$B$5,2) -> 2 | H17: hr | I17: =CONCATENATE("{'tag_name': '",D17, "', 'register_type': '",H17, "', 'register_number': ",A17, "},") -> {'tag_name': 'Input_Inclinometer_AIN.Cfg_PVEUMax', 'register_type': 'hr', 'register_number': 29},
A18: =A17+F17 -> 31 | B18: Inclinometer Input - EU Low | C18: RW | D18: Input_Inclinometer_AIN.Cfg_PVEUMin | E18: REAL | F18: =VLOOKUP(E18,'Register Counts'!$A$2:$B$5,2) -> 2 | H18: hr | I18: =CONCATENATE("{'tag_name': '",D18, "', 'register_type': '",H18, "', 'register_number': ",A18, "},") -> {'tag_name': 'Input_Inclinometer_AIN.Cfg_PVEUMin', 'register_type': 'hr', 'register_number': 31},
A19: =A18+F18 -> 33 | B19: Load Cell Input - EU High | C19: RW | D19: Input_LoadCell_AIN.Cfg_PVEUMax | E19: REAL | F19: =VLOOKUP(E19,'Register Counts'!$A$2:$B$5,2) -> 2 | H19: hr | I19: =CONCATENATE("{'tag_name': '",D19, "', 'register_type': '",H19, "', 'register_number': ",A19, "},") -> {'tag_name': 'Input_LoadCell_AIN.Cfg_PVEUMax', 'register_type': 'hr', 'register_number': 33},
A20: =A19+F19 -> 35 | B20: Load Cell Input - EU Low | C20: RW | D20: Input_LoadCell_AIN.Cfg_PVEUMin | E20: REAL | F20: =VLOOKUP(E20,'Register Counts'!$A$2:$B$5,2) -> 2 | H20: hr | I20: =CONCATENATE("{'tag_name': '",D20, "', 'register_type': '",H20, "', 'register_number': ",A20, "},") -> {'tag_name': 'Input_LoadCell_AIN.Cfg_PVEUMin', 'register_type': 'hr', 'register_number': 35},
A21: =A20+F20 -> 37 | B21: K-Factor | C21: RW | D21: K_Factor | E21: REAL | F21: =VLOOKUP(E21,'Register Counts'!$A$2:$B$5,2) -> 2 | H21: hr | I21: =CONCATENATE("{'tag_name': '",D21, "', 'register_type': '",H21, "', 'register_number': ",A21, "},") -> {'tag_name': 'K_Factor', 'register_type': 'hr', 'register_number': 37},
A22: =A21+F21 -> 39 | B22: Minimum Fluid Load Shutdown Setpoint | C22: RW | D22: Min_Fluid_Load_Shutdown_Setpoint | E22: REAL | F22: =VLOOKUP(E22,'Register Counts'!$A$2:$B$5,2) -> 2 | G22: in % maximum | H22: hr | I22: =CONCATENATE("{'tag_name': '",D22, "', 'register_type': '",H22, "', 'register_number': ",A22, "},") -> {'tag_name': 'Min_Fluid_Load_Shutdown_Setpoint', 'register_type': 'hr', 'register_number': 39},
A23: =A22+F22 -> 41 | B23: Analog Input 1 - Channel | C23: RW | D23: Input_Analog_1.Channel | E23: INT | F23: =VLOOKUP(E23,'Register Counts'!$A$2:$B$5,2) -> 1 | H23: hr | I23: =CONCATENATE("{'tag_name': '",D23, "', 'register_type': '",H23, "', 'register_number': ",A23, "},") -> {'tag_name': 'Input_Analog_1.Channel', 'register_type': 'hr', 'register_number': 41},
A24: =A23+F23 -> 42 | B24: Analog Input 1 - Type | C24: RW | D24: Input_Analog_1.Type | E24: INT | F24: =VLOOKUP(E24,'Register Counts'!$A$2:$B$5,2) -> 1 | G24: 1=Inclinometer, 2=Casing Pressure,3=Tubing Pressure, 4=Flow Line Pressure,5=Flowmeter, 6=Other | H24: hr | I24: =CONCATENATE("{'tag_name': '",D24, "', 'register_type': '",H24, "', 'register_number': ",A24, "},") -> {'tag_name': 'Input_Analog_1.Type', 'register_type': 'hr', 'register_number': 42},
A25: =A24+F24 -> 43 | B25: Analog Input 2 - Channel | C25: RW | D25: Input_Analog_2.Channel | E25: INT | F25: =VLOOKUP(E25,'Register Counts'!$A$2:$B$5,2) -> 1 | H25: hr | I25: =CONCATENATE("{'tag_name': '",D25, "', 'register_type': '",H25, "', 'register_number': ",A25, "},") -> {'tag_name': 'Input_Analog_2.Channel', 'register_type': 'hr', 'register_number': 43},
A26: =A25+F25 -> 44 | B26: Analog Input 2 - Type | C26: RW | D26: Input_Analog_2.Type | E26: INT | F26: =VLOOKUP(E26,'Register Counts'!$A$2:$B$5,2) -> 1 | G26: 1=Inclinometer, 2=Casing Pressure,3=Tubing Pressure, 4=Flow Line Pressure,5=Flowmeter, 6=Other | H26: hr | I26: =CONCATENATE("{'tag_name': '",D26, "', 'register_type': '",H26, "', 'register_number': ",A26, "},") -> {'tag_name': 'Input_Analog_2.Type', 'register_type': 'hr', 'register_number': 44},
A27: =A26+F26 -> 45 | B27: Analog Input 3 - Channel | C27: RW | D27: Input_Analog_3.Channel | E27: INT | F27: =VLOOKUP(E27,'Register Counts'!$A$2:$B$5,2) -> 1 | H27: hr | I27: =CONCATENATE("{'tag_name': '",D27, "', 'register_type': '",H27, "', 'register_number': ",A27, "},") -> {'tag_name': 'Input_Analog_3.Channel', 'register_type': 'hr', 'register_number': 45},
A28: =A27+F27 -> 46 | B28: Analog Input 3 - Type | C28: RW | D28: Input_Analog_3.Type | E28: INT | F28: =VLOOKUP(E28,'Register Counts'!$A$2:$B$5,2) -> 1 | G28: 1=Inclinometer, 2=Casing Pressure,3=Tubing Pressure, 4=Flow Line Pressure,5=Flowmeter, 6=Other | H28: hr | I28: =CONCATENATE("{'tag_name': '",D28, "', 'register_type': '",H28, "', 'register_number': ",A28, "},") -> {'tag_name': 'Input_Analog_3.Type', 'register_type': 'hr', 'register_number': 46},
A29: =A28+F28 -> 47 | B29: Inclinometer Input - Channel | C29: RW | D29: Input_Inclinometer.Channel | E29: INT | F29: =VLOOKUP(E29,'Register Counts'!$A$2:$B$5,2) -> 1 | H29: hr | I29: =CONCATENATE("{'tag_name': '",D29, "', 'register_type': '",H29, "', 'register_number': ",A29, "},") -> {'tag_name': 'Input_Inclinometer.Channel', 'register_type': 'hr', 'register_number': 47},
A30: =A29+F29 -> 48 | B30: Inclinometer Input - Type | C30: RW | D30: Input_Inclinometer.Type | E30: INT | F30: =VLOOKUP(E30,'Register Counts'!$A$2:$B$5,2) -> 1 | H30: hr | I30: =CONCATENATE("{'tag_name': '",D30, "', 'register_type': '",H30, "', 'register_number': ",A30, "},") -> {'tag_name': 'Input_Inclinometer.Type', 'register_type': 'hr', 'register_number': 48},
A31: =A30+F30 -> 49 | B31: Load Cell Input - Channel | C31: RW | D31: Input_LoadCell.Channel | E31: INT | F31: =VLOOKUP(E31,'Register Counts'!$A$2:$B$5,2) -> 1 | H31: hr | I31: =CONCATENATE("{'tag_name': '",D31, "', 'register_type': '",H31, "', 'register_number': ",A31, "},") -> {'tag_name': 'Input_LoadCell.Channel', 'register_type': 'hr', 'register_number': 49},
A32: =A31+F31 -> 50 | B32: Load Cell Input - Type | C32: RW | D32: Input_LoadCell.Type | E32: INT | F32: =VLOOKUP(E32,'Register Counts'!$A$2:$B$5,2) -> 1 | H32: hr | I32: =CONCATENATE("{'tag_name': '",D32, "', 'register_type': '",H32, "', 'register_number': ",A32, "},") -> {'tag_name': 'Input_LoadCell.Type', 'register_type': 'hr', 'register_number': 50},
A33: =A32+F32 -> 51 | B33: Taper 1 Length | C33: RW | D33: Taper.Taper[1].Setup.Length | E33: REAL | F33: =VLOOKUP(E33,'Register Counts'!$A$2:$B$5,2) -> 2 | H33: hr | I33: =CONCATENATE("{'tag_name': '",D33, "', 'register_type': '",H33, "', 'register_number': ",A33, "},") -> {'tag_name': 'Taper.Taper[1].Setup.Length', 'register_type': 'hr', 'register_number': 51},
A34: =A33+F33 -> 53 | B34: Taper 1 Diameter | C34: RW | D34: Taper.Taper[1].Setup.Diameter | E34: REAL | F34: =VLOOKUP(E34,'Register Counts'!$A$2:$B$5,2) -> 2 | H34: hr | I34: =CONCATENATE("{'tag_name': '",D34, "', 'register_type': '",H34, "', 'register_number': ",A34, "},") -> {'tag_name': 'Taper.Taper[1].Setup.Diameter', 'register_type': 'hr', 'register_number': 53},
A35: =A34+F34 -> 55 | B35: Taper 1 Material | C35: RW | D35: Taper.Taper[1].Setup.Material | E35: DINT | F35: =VLOOKUP(E35,'Register Counts'!$A$2:$B$5,2) -> 1 | G35: 1=Steel, 2=Fiberglass | H35: hr | I35: =CONCATENATE("{'tag_name': '",D35, "', 'register_type': '",H35, "', 'register_number': ",A35, "},") -> {'tag_name': 'Taper.Taper[1].Setup.Material', 'register_type': 'hr', 'register_number': 55},
A36: =A35+F35 -> 56 | B36: Taper 2 Length | C36: RW | D36: Taper.Taper[2].Setup.Length | E36: REAL | F36: =VLOOKUP(E36,'Register Counts'!$A$2:$B$5,2) -> 2 | H36: hr | I36: =CONCATENATE("{'tag_name': '",D36, "', 'register_type': '",H36, "', 'register_number': ",A36, "},") -> {'tag_name': 'Taper.Taper[2].Setup.Length', 'register_type': 'hr', 'register_number': 56},
A37: =A36+F36 -> 58 | B37: Taper 2 Diameter | C37: RW | D37: Taper.Taper[2].Setup.Diameter | E37: REAL | F37: =VLOOKUP(E37,'Register Counts'!$A$2:$B$5,2) -> 2 | H37: hr | I37: =CONCATENATE("{'tag_name': '",D37, "', 'register_type': '",H37, "', 'register_number': ",A37, "},") -> {'tag_name': 'Taper.Taper[2].Setup.Diameter', 'register_type': 'hr', 'register_number': 58},
A38: =A37+F37 -> 60 | B38: Taper 2 Material | C38: RW | D38: Taper.Taper[2].Setup.Material | E38: DINT | F38: =VLOOKUP(E38,'Register Counts'!$A$2:$B$5,2) -> 1 | G38: 1=Steel, 2=Fiberglass | H38: hr | I38: =CONCATENATE("{'tag_name': '",D38, "', 'register_type': '",H38, "', 'register_number': ",A38, "},") -> {'tag_name': 'Taper.Taper[2].Setup.Material', 'register_type': 'hr', 'register_number': 60},
A39: =A38+F38 -> 61 | B39: Taper 3 Length | C39: RW | D39: Taper.Taper[3].Setup.Length | E39: REAL | F39: =VLOOKUP(E39,'Register Counts'!$A$2:$B$5,2) -> 2 | H39: hr | I39: =CONCATENATE("{'tag_name': '",D39, "', 'register_type': '",H39, "', 'register_number': ",A39, "},") -> {'tag_name': 'Taper.Taper[3].Setup.Length', 'register_type': 'hr', 'register_number': 61},
A40: =A39+F39 -> 63 | B40: Taper 3 Diameter | C40: RW | D40: Taper.Taper[3].Setup.Diameter | E40: REAL | F40: =VLOOKUP(E40,'Register Counts'!$A$2:$B$5,2) -> 2 | H40: hr | I40: =CONCATENATE("{'tag_name': '",D40, "', 'register_type': '",H40, "', 'register_number': ",A40, "},") -> {'tag_name': 'Taper.Taper[3].Setup.Diameter', 'register_type': 'hr', 'register_number': 63},
A41: =A40+F40 -> 65 | B41: Taper 3 Material | C41: RW | D41: Taper.Taper[3].Setup.Material | E41: DINT | F41: =VLOOKUP(E41,'Register Counts'!$A$2:$B$5,2) -> 1 | G41: 1=Steel, 2=Fiberglass | H41: hr | I41: =CONCATENATE("{'tag_name': '",D41, "', 'register_type': '",H41, "', 'register_number': ",A41, "},") -> {'tag_name': 'Taper.Taper[3].Setup.Material', 'register_type': 'hr', 'register_number': 65},
A42: =A41+F41 -> 66 | B42: Taper 4 Length | C42: RW | D42: Taper.Taper[4].Setup.Length | E42: REAL | F42: =VLOOKUP(E42,'Register Counts'!$A$2:$B$5,2) -> 2 | H42: hr | I42: =CONCATENATE("{'tag_name': '",D42, "', 'register_type': '",H42, "', 'register_number': ",A42, "},") -> {'tag_name': 'Taper.Taper[4].Setup.Length', 'register_type': 'hr', 'register_number': 66},
A43: =A42+F42 -> 68 | B43: Taper 4 Diameter | C43: RW | D43: Taper.Taper[4].Setup.Diameter | E43: REAL | F43: =VLOOKUP(E43,'Register Counts'!$A$2:$B$5,2) -> 2 | H43: hr | I43: =CONCATENATE("{'tag_name': '",D43, "', 'register_type': '",H43, "', 'register_number': ",A43, "},") -> {'tag_name': 'Taper.Taper[4].Setup.Diameter', 'register_type': 'hr', 'register_number': 68},
A44: =A43+F43 -> 70 | B44: Taper 4 Material | C44: RW | D44: Taper.Taper[4].Setup.Material | E44: DINT | F44: =VLOOKUP(E44,'Register Counts'!$A$2:$B$5,2) -> 1 | G44: 1=Steel, 2=Fiberglass | H44: hr | I44: =CONCATENATE("{'tag_name': '",D44, "', 'register_type': '",H44, "', 'register_number': ",A44, "},") -> {'tag_name': 'Taper.Taper[4].Setup.Material', 'register_type': 'hr', 'register_number': 70},
A45: =A44+F44 -> 71 | B45: Taper 5 Length | C45: RW | D45: Taper.Taper[5].Setup.Length | E45: REAL | F45: =VLOOKUP(E45,'Register Counts'!$A$2:$B$5,2) -> 2 | H45: hr | I45: =CONCATENATE("{'tag_name': '",D45, "', 'register_type': '",H45, "', 'register_number': ",A45, "},") -> {'tag_name': 'Taper.Taper[5].Setup.Length', 'register_type': 'hr', 'register_number': 71},
A46: =A45+F45 -> 73 | B46: Taper 5 Diameter | C46: RW | D46: Taper.Taper[5].Setup.Diameter | E46: REAL | F46: =VLOOKUP(E46,'Register Counts'!$A$2:$B$5,2) -> 2 | H46: hr | I46: =CONCATENATE("{'tag_name': '",D46, "', 'register_type': '",H46, "', 'register_number': ",A46, "},") -> {'tag_name': 'Taper.Taper[5].Setup.Diameter', 'register_type': 'hr', 'register_number': 73},
A47: =A46+F46 -> 75 | B47: Taper 5 Material | C47: RW | D47: Taper.Taper[5].Setup.Material | E47: DINT | F47: =VLOOKUP(E47,'Register Counts'!$A$2:$B$5,2) -> 1 | G47: 1=Steel, 2=Fiberglass | H47: hr | I47: =CONCATENATE("{'tag_name': '",D47, "', 'register_type': '",H47, "', 'register_number': ",A47, "},") -> {'tag_name': 'Taper.Taper[5].Setup.Material', 'register_type': 'hr', 'register_number': 75},
A48: =A47+F47 -> 76 | B48: Taper 6 Length | C48: RW | D48: Taper.Taper[6].Setup.Length | E48: REAL | F48: =VLOOKUP(E48,'Register Counts'!$A$2:$B$5,2) -> 2 | H48: hr | I48: =CONCATENATE("{'tag_name': '",D48, "', 'register_type': '",H48, "', 'register_number': ",A48, "},") -> {'tag_name': 'Taper.Taper[6].Setup.Length', 'register_type': 'hr', 'register_number': 76},
A49: =A48+F48 -> 78 | B49: Taper 6 Diameter | C49: RW | D49: Taper.Taper[6].Setup.Diameter | E49: REAL | F49: =VLOOKUP(E49,'Register Counts'!$A$2:$B$5,2) -> 2 | H49: hr | I49: =CONCATENATE("{'tag_name': '",D49, "', 'register_type': '",H49, "', 'register_number': ",A49, "},") -> {'tag_name': 'Taper.Taper[6].Setup.Diameter', 'register_type': 'hr', 'register_number': 78},
A50: =A49+F49 -> 80 | B50: Taper 6 Material | C50: RW | D50: Taper.Taper[6].Setup.Material | E50: DINT | F50: =VLOOKUP(E50,'Register Counts'!$A$2:$B$5,2) -> 1 | G50: 1=Steel, 2=Fiberglass | H50: hr | I50: =CONCATENATE("{'tag_name': '",D50, "', 'register_type': '",H50, "', 'register_number': ",A50, "},") -> {'tag_name': 'Taper.Taper[6].Setup.Material', 'register_type': 'hr', 'register_number': 80},
A51: =A50+F50 -> 81 | B51: Taper 7 Length | C51: RW | D51: Taper.Taper[7].Setup.Length | E51: REAL | F51: =VLOOKUP(E51,'Register Counts'!$A$2:$B$5,2) -> 2 | H51: hr | I51: =CONCATENATE("{'tag_name': '",D51, "', 'register_type': '",H51, "', 'register_number': ",A51, "},") -> {'tag_name': 'Taper.Taper[7].Setup.Length', 'register_type': 'hr', 'register_number': 81},
A52: =A51+F51 -> 83 | B52: Taper 7 Diameter | C52: RW | D52: Taper.Taper[7].Setup.Diameter | E52: REAL | F52: =VLOOKUP(E52,'Register Counts'!$A$2:$B$5,2) -> 2 | H52: hr | I52: =CONCATENATE("{'tag_name': '",D52, "', 'register_type': '",H52, "', 'register_number': ",A52, "},") -> {'tag_name': 'Taper.Taper[7].Setup.Diameter', 'register_type': 'hr', 'register_number': 83},
A53: =A52+F52 -> 85 | B53: Taper 7 Material | C53: RW | D53: Taper.Taper[7].Setup.Material | E53: DINT | F53: =VLOOKUP(E53,'Register Counts'!$A$2:$B$5,2) -> 1 | G53: 1=Steel, 2=Fiberglass | H53: hr | I53: =CONCATENATE("{'tag_name': '",D53, "', 'register_type': '",H53, "', 'register_number': ",A53, "},") -> {'tag_name': 'Taper.Taper[7].Setup.Material', 'register_type': 'hr', 'register_number': 85},
A54: =A53+F53 -> 86 | B54: Taper 8 Length | C54: RW | D54: Taper.Taper[8].Setup.Length | E54: REAL | F54: =VLOOKUP(E54,'Register Counts'!$A$2:$B$5,2) -> 2 | H54: hr | I54: =CONCATENATE("{'tag_name': '",D54, "', 'register_type': '",H54, "', 'register_number': ",A54, "},") -> {'tag_name': 'Taper.Taper[8].Setup.Length', 'register_type': 'hr', 'register_number': 86},
A55: =A54+F54 -> 88 | B55: Taper 8 Diameter | C55: RW | D55: Taper.Taper[8].Setup.Diameter | E55: REAL | F55: =VLOOKUP(E55,'Register Counts'!$A$2:$B$5,2) -> 2 | H55: hr | I55: =CONCATENATE("{'tag_name': '",D55, "', 'register_type': '",H55, "', 'register_number': ",A55, "},") -> {'tag_name': 'Taper.Taper[8].Setup.Diameter', 'register_type': 'hr', 'register_number': 88},
A56: =A55+F55 -> 90 | B56: Taper 8 Material | C56: RW | D56: Taper.Taper[8].Setup.Material | E56: DINT | F56: =VLOOKUP(E56,'Register Counts'!$A$2:$B$5,2) -> 1 | G56: 1=Steel, 2=Fiberglass | H56: hr | I56: =CONCATENATE("{'tag_name': '",D56, "', 'register_type': '",H56, "', 'register_number': ",A56, "},") -> {'tag_name': 'Taper.Taper[8].Setup.Material', 'register_type': 'hr', 'register_number': 90},
A57: =A56+F56 -> 91 | B57: Taper 9 Length | C57: RW | D57: Taper.Taper[9].Setup.Length | E57: REAL | F57: =VLOOKUP(E57,'Register Counts'!$A$2:$B$5,2) -> 2 | H57: hr | I57: =CONCATENATE("{'tag_name': '",D57, "', 'register_type': '",H57, "', 'register_number': ",A57, "},") -> {'tag_name': 'Taper.Taper[9].Setup.Length', 'register_type': 'hr', 'register_number': 91},
A58: =A57+F57 -> 93 | B58: Taper 9 Diameter | C58: RW | D58: Taper.Taper[9].Setup.Diameter | E58: REAL | F58: =VLOOKUP(E58,'Register Counts'!$A$2:$B$5,2) -> 2 | H58: hr | I58: =CONCATENATE("{'tag_name': '",D58, "', 'register_type': '",H58, "', 'register_number': ",A58, "},") -> {'tag_name': 'Taper.Taper[9].Setup.Diameter', 'register_type': 'hr', 'register_number': 93},
A59: =A58+F58 -> 95 | B59: Taper 9 Material | C59: RW | D59: Taper.Taper[9].Setup.Material | E59: DINT | F59: =VLOOKUP(E59,'Register Counts'!$A$2:$B$5,2) -> 1 | G59: 1=Steel, 2=Fiberglass | H59: hr | I59: =CONCATENATE("{'tag_name': '",D59, "', 'register_type': '",H59, "', 'register_number': ",A59, "},") -> {'tag_name': 'Taper.Taper[9].Setup.Material', 'register_type': 'hr', 'register_number': 95},
A60: =A59+F59 -> 96 | B60: Taper 10 Length | C60: RW | D60: Taper.Taper[10].Setup.Length | E60: REAL | F60: =VLOOKUP(E60,'Register Counts'!$A$2:$B$5,2) -> 2 | H60: hr | I60: =CONCATENATE("{'tag_name': '",D60, "', 'register_type': '",H60, "', 'register_number': ",A60, "},") -> {'tag_name': 'Taper.Taper[10].Setup.Length', 'register_type': 'hr', 'register_number': 96},
A61: =A60+F60 -> 98 | B61: Taper 10 Diameter | C61: RW | D61: Taper.Taper[10].Setup.Diameter | E61: REAL | F61: =VLOOKUP(E61,'Register Counts'!$A$2:$B$5,2) -> 2 | H61: hr | I61: =CONCATENATE("{'tag_name': '",D61, "', 'register_type': '",H61, "', 'register_number': ",A61, "},") -> {'tag_name': 'Taper.Taper[10].Setup.Diameter', 'register_type': 'hr', 'register_number': 98},
A62: =A61+F61 -> 100 | B62: Taper 10 Material | C62: RW | D62: Taper.Taper[10].Setup.Material | E62: DINT | F62: =VLOOKUP(E62,'Register Counts'!$A$2:$B$5,2) -> 1 | G62: 1=Steel, 2=Fiberglass | H62: hr | I62: =CONCATENATE("{'tag_name': '",D62, "', 'register_type': '",H62, "', 'register_number': ",A62, "},") -> {'tag_name': 'Taper.Taper[10].Setup.Material', 'register_type': 'hr', 'register_number': 100},
A63: =A62+F62 -> 101 | B63: Motor Nameplate Volts | C63: RW | D63: UnitConfig.MotorNameplate.Volts | E63: REAL | F63: =VLOOKUP(E63,'Register Counts'!$A$2:$B$5,2) -> 2 | H63: hr | I63: =CONCATENATE("{'tag_name': '",D63, "', 'register_type': '",H63, "', 'register_number': ",A63, "},") -> {'tag_name': 'UnitConfig.MotorNameplate.Volts', 'register_type': 'hr', 'register_number': 101},
A64: =A63+F63 -> 103 | B64: Motor Nameplate Amps | C64: RW | D64: UnitConfig.MotorNameplate.Amps | E64: REAL | F64: =VLOOKUP(E64,'Register Counts'!$A$2:$B$5,2) -> 2 | H64: hr | I64: =CONCATENATE("{'tag_name': '",D64, "', 'register_type': '",H64, "', 'register_number': ",A64, "},") -> {'tag_name': 'UnitConfig.MotorNameplate.Amps', 'register_type': 'hr', 'register_number': 103},
A65: =A64+F64 -> 105 | B65: Motor Nameplate Hertz | C65: RW | D65: UnitConfig.MotorNameplate.Hertz | E65: REAL | F65: =VLOOKUP(E65,'Register Counts'!$A$2:$B$5,2) -> 2 | H65: hr | I65: =CONCATENATE("{'tag_name': '",D65, "', 'register_type': '",H65, "', 'register_number': ",A65, "},") -> {'tag_name': 'UnitConfig.MotorNameplate.Hertz', 'register_type': 'hr', 'register_number': 105},
A66: =A65+F65 -> 107 | B66: Motor Nameplate Poles | C66: RW | D66: UnitConfig.MotorNameplate.Poles | E66: INT | F66: =VLOOKUP(E66,'Register Counts'!$A$2:$B$5,2) -> 1 | H66: hr | I66: =CONCATENATE("{'tag_name': '",D66, "', 'register_type': '",H66, "', 'register_number': ",A66, "},") -> {'tag_name': 'UnitConfig.MotorNameplate.Poles', 'register_type': 'hr', 'register_number': 107},
A67: =A66+F66 -> 108 | B67: Motor Nameplate RPM | C67: RW | D67: UnitConfig.MotorNameplate.RPM | E67: REAL | F67: =VLOOKUP(E67,'Register Counts'!$A$2:$B$5,2) -> 2 | H67: hr | I67: =CONCATENATE("{'tag_name': '",D67, "', 'register_type': '",H67, "', 'register_number': ",A67, "},") -> {'tag_name': 'UnitConfig.MotorNameplate.RPM', 'register_type': 'hr', 'register_number': 108},
A68: =A67+F67 -> 110 | B68: Motor Nameplate Service Factor | C68: RW | D68: UnitConfig.MotorNameplate.ServiceFactor | E68: REAL | F68: =VLOOKUP(E68,'Register Counts'!$A$2:$B$5,2) -> 2 | H68: hr | I68: =CONCATENATE("{'tag_name': '",D68, "', 'register_type': '",H68, "', 'register_number': ",A68, "},") -> {'tag_name': 'UnitConfig.MotorNameplate.ServiceFactor', 'register_type': 'hr', 'register_number': 110},
A69: =A68+F68 -> 112 | B69: Motor Nameplate Horsepower | C69: RW | D69: UnitConfig.MotorNameplate.Horsepower | E69: REAL | F69: =VLOOKUP(E69,'Register Counts'!$A$2:$B$5,2) -> 2 | H69: hr | I69: =CONCATENATE("{'tag_name': '",D69, "', 'register_type': '",H69, "', 'register_number': ",A69, "},") -> {'tag_name': 'UnitConfig.MotorNameplate.Horsepower', 'register_type': 'hr', 'register_number': 112},
A70: =A69+F69 -> 114 | B70: Pump Diameter | C70: RW | D70: UnitConfig.Pump_Diameter | E70: REAL | F70: =VLOOKUP(E70,'Register Counts'!$A$2:$B$5,2) -> 2 | H70: hr | I70: =CONCATENATE("{'tag_name': '",D70, "', 'register_type': '",H70, "', 'register_number': ",A70, "},") -> {'tag_name': 'UnitConfig.Pump_Diameter', 'register_type': 'hr', 'register_number': 114},
A71: =A70+F70 -> 116 | B71: Anchor Depth | C71: RW | D71: UnitConfig.Anchor_Depth | E71: REAL | F71: =VLOOKUP(E71,'Register Counts'!$A$2:$B$5,2) -> 2 | H71: hr | I71: =CONCATENATE("{'tag_name': '",D71, "', 'register_type': '",H71, "', 'register_number': ",A71, "},") -> {'tag_name': 'UnitConfig.Anchor_Depth', 'register_type': 'hr', 'register_number': 116},
A72: =A71+F71 -> 118 | B72: Total Stroke Length | C72: RW | D72: UnitConfig.Total_Stroke_Length | E72: REAL | F72: =VLOOKUP(E72,'Register Counts'!$A$2:$B$5,2) -> 2 | H72: hr | I72: =CONCATENATE("{'tag_name': '",D72, "', 'register_type': '",H72, "', 'register_number': ",A72, "},") -> {'tag_name': 'UnitConfig.Total_Stroke_Length', 'register_type': 'hr', 'register_number': 118},
A73: =A72+F72 -> 120 | B73: Motor Sheave Size | C73: RW | D73: UnitConfig.Motor_Sheave_Size | E73: REAL | F73: =VLOOKUP(E73,'Register Counts'!$A$2:$B$5,2) -> 2 | H73: hr | I73: =CONCATENATE("{'tag_name': '",D73, "', 'register_type': '",H73, "', 'register_number': ",A73, "},") -> {'tag_name': 'UnitConfig.Motor_Sheave_Size', 'register_type': 'hr', 'register_number': 120},
A74: =A73+F73 -> 122 | B74: Gearbox Sheave size | C74: RW | D74: UnitConfig.Gearbox_Sheave | E74: REAL | F74: =VLOOKUP(E74,'Register Counts'!$A$2:$B$5,2) -> 2 | H74: hr | I74: =CONCATENATE("{'tag_name': '",D74, "', 'register_type': '",H74, "', 'register_number': ",A74, "},") -> {'tag_name': 'UnitConfig.Gearbox_Sheave', 'register_type': 'hr', 'register_number': 122},
... A85: =A84+F84 -> 143 | B85: Percent Water | C85: RW | D85: UnitConfig.Percent_Water | E85: REAL | F85: =VLOOKUP(E85,'Register Counts'!$A$2:$B$5,2) -> 2 | H85: hr | I85: =CONCATENATE("{'tag_name': '",D85, "', 'register_type': '",H85, "', 'register_number': ",A85, "},") -> {'tag_name': 'UnitConfig.Percent_Water', 'register_type': 'hr', 'register_number': 143},
A86: =A85+F85 -> 145 | B86: Speed Setpoint | C86: RW | D86: Pump.Speed_Setpoint_SPM | E86: REAL | F86: =VLOOKUP(E86,'Register Counts'!$A$2:$B$5,2) -> 2 | G86: SPM | H86: hr | I86: =CONCATENATE("{'tag_name': '",D86, "', 'register_type': '",H86, "', 'register_number': ",A86, "},") -> {'tag_name': 'Pump.Speed_Setpoint_SPM', 'register_type': 'hr', 'register_number': 145},
A87: =A86+F86 -> 147 | B87: Max Speed | C87: RW | D87: Pump.Speed_Max | E87: REAL | F87: =VLOOKUP(E87,'Register Counts'!$A$2:$B$5,2) -> 2 | G87: SPM | H87: hr | I87: =CONCATENATE("{'tag_name': '",D87, "', 'register_type': '",H87, "', 'register_number': ",A87, "},") -> {'tag_name': 'Pump.Speed_Max', 'register_type': 'hr', 'register_number': 147},
A88: =A87+F87 -> 149 | B88: Min Speed | C88: RW | D88: Pump.Speed_Min | E88: REAL | F88: =VLOOKUP(E88,'Register Counts'!$A$2:$B$5,2) -> 2 | G88: SPM | H88: hr | I88: =CONCATENATE("{'tag_name': '",D88, "', 'register_type': '",H88, "', 'register_number': ",A88, "},") -> {'tag_name': 'Pump.Speed_Min', 'register_type': 'hr', 'register_number': 149},
A89: =A88+F88 -> 151 | B89: POC Percentage Off | C89: RW | D89: Pump.POC_Percentage_Off | E89: REAL | F89: =VLOOKUP(E89,'Register Counts'!$A$2:$B$5,2) -> 2 | H89: hr | I89: =CONCATENATE("{'tag_name': '",D89, "', 'register_type': '",H89, "', 'register_number': ",A89, "},") -> {'tag_name': 'Pump.POC_Percentage_Off', 'register_type': 'hr', 'register_number': 151},
A90: =A89+F89 -> 153 | B90: POC Auto Ramp Down Percentage | C90: RW | D90: Pump.Auto_Percentage_RampDown | E90: REAL | F90: =VLOOKUP(E90,'Register Counts'!$A$2:$B$5,2) -> 2 | H90: hr | I90: =CONCATENATE("{'tag_name': '",D90, "', 'register_type': '",H90, "', 'register_number': ",A90, "},") -> {'tag_name': 'Pump.Auto_Percentage_RampDown', 'register_type': 'hr', 'register_number': 153},
A91: =A90+F90 -> 155 | B91: POC Auto Ramp Up Percentage | C91: RW | D91: Pump.Auto_Percentage_RampUp | E91: REAL | F91: =VLOOKUP(E91,'Register Counts'!$A$2:$B$5,2) -> 2 | H91: hr | I91: =CONCATENATE("{'tag_name': '",D91, "', 'register_type': '",H91, "', 'register_number': ",A91, "},") -> {'tag_name': 'Pump.Auto_Percentage_RampUp', 'register_type': 'hr', 'register_number': 155},
A92: =A91+F91 -> 157 | B92: Operation Mode | C92: RW | D92: Pump.Mode | E92: DINT | F92: =VLOOKUP(E92,'Register Counts'!$A$2:$B$5,2) -> 1 | G92: 1=Auto, 2=POC, 3=Timer, 4=Manual | H92: hr | I92: =CONCATENATE("{'tag_name': '",D92, "', 'register_type': '",H92, "', 'register_number': ",A92, "},") -> {'tag_name': 'Pump.Mode', 'register_type': 'hr', 'register_number': 157},

Sheet Register Counts
A1: Type | B1: Registers
A2: DINT | B2: 1
A3: INT | B3: 1
A4: REAL | B4: 2
A5: SINT | B5: 1

Sheet Register Scheme
A1: Register
A2: X | B2: Scaled Value
A3: X + 1 | B3: Scale Type (0 = multiply, 1 = divide)
A4: X + 2 | B4: Multiplier
A5: X + 3 | B5: Value age
A6: X + 4

Sheet Sanitized
A1: COILS
A2: =Coils!A1 -> Register | B2: =Coils!B1 -> Description | C2: =Coils!C1 -> Access | D2: =Coils!E1 -> Type | E2: =Coils!F1 -> Notes
A3: =Coils!A2 -> 1 | B3: =Coils!B2 -> Terms & Conditions Accepted | C3: =Coils!C2 -> RW | D3: =Coils!E2 -> BOOL
A4: =Coils!A3 -> 2 | B4: =Coils!B3 -> Autotune at next startup | C4: =Coils!C3 -> RW | D4: =Coils!E3 -> BOOL
A5: =Coils!A4 -> 3 | B5: =Coils!B4 -> Gas Interference Override Enabled | C5: =Coils!C4 -> RW | D5: =Coils!E4 -> BOOL
A6: =Coils!A5 -> 4 | B6: =Coils!B5 -> Gauge Off Manual Command | C6: =Coils!C5 -> RW | D6: =Coils!E5 -> BOOL
A7: =Coils!A6 -> 5 | B7: =Coils!B6 -> Initialize | C7: =Coils!C6 -> RW | D7: =Coils!E6 -> BOOL | E7: =Coils!F6 -> resets counters & totals
A8: =Coils!A7 -> 6 | B8: =Coils!B7 -> Analog Input 1 - Enabled | C8: =Coils!C7 -> RW | D8: =Coils!E7 -> BOOL
A9: =Coils!A8 -> 7 | B9: =Coils!B8 -> Analog Input 2 - Enabled | C9: =Coils!C8 -> RW | D9: =Coils!E8 -> BOOL
A10: =Coils!A9 -> 8 | B10: =Coils!B9 -> Analog Input 3 - Enabled | C10: =Coils!C9 -> RW | D10: =Coils!E9 -> BOOL
A11: =Coils!A10 -> 9 | B11: =Coils!B10 -> Calibrate Inclinometer Command | C11: =Coils!C10 -> RW | D11: =Coils!E10 -> BOOL
A12: =Coils!A11 -> 10 | B12: =Coils!B11 -> Inclinometer Input - Enabled | C12: =Coils!C11 -> RW | D12: =Coils!E11 -> BOOL
A13: =Coils!A12 -> 11 | B13: =Coils!B12 -> Load Cell Input - Enabled | C13: =Coils!C12 -> RW | D13: =Coils!E12 -> BOOL
A14: =Coils!A13 -> 12 | B14: =Coils!B13 -> Minimum Fluid Load Shutdown Enabled | C14: =Coils!C13 -> RW | D14: =Coils!E13 -> BOOL
A15: =Coils!A14 -> 13 | B15: =Coils!B14 -> Restart After Fault Allowed | C15: =Coils!C14 -> RW | D15: =Coils!E14 -> BOOL
A16: =Coils!A15 -> 14 | B16: =Coils!B15 -> Update Tapers | C16: =Coils!C15 -> RW | D16: =Coils!E15 -> BOOL
A17: =Coils!A16 -> 15 | B17: =Coils!B16 -> Use Wireless Load Cell | C17: =Coils!C16 -> RW | D17: =Coils!E16 -> BOOL
A18: =Coils!A17 -> 16 | B18: =Coils!B17 -> Write VFD Mode Data | C18: =Coils!C17 -> RW | D18: =Coils!E17 -> BOOL
A19: =Coils!A18 -> 17 | B19: =Coils!B18 -> Write VFD Nameplate Data | C19: =Coils!C18 -> RW | D19: =Coils!E18 -> BOOL
... A21: =Coils!A20 -> 19 | B21: =Coils!B20 -> Stop Command | C21: =Coils!C20 -> RW | D21: =Coils!E20 -> BOOL
A24: DISCRETE INPUTS
A25: ='Digital Input'!A1 -> Register | B25: ='Digital Input'!B1 -> Description | C25: ='Digital Input'!C1 -> Access | D25: ='Digital Input'!E1 -> Type | E25: ='Digital Input'!H1 -> Notes
A26: ='Digital Input'!A2 -> 1 | B26: ='Digital Input'!B2 -> Inclinometer is Calibrating | C26: ='Digital Input'!C2 -> R | D26: ='Digital Input'!E2 -> BOOL
A27: ='Digital Input'!A3 -> 2 | B27: ='Digital Input'!B3 -> Inclinometer Stale Value | C27: ='Digital Input'!C3 -> R | D27: ='Digital Input'!E3 -> BOOL
A30: HOLDING REGISTERS
A31: ='Holding Registers'!A1 -> Register | B31: ='Holding Registers'!B1 -> Description | C31: ='Holding Registers'!C1 -> Access | D31: ='Holding Registers'!E1 -> Type | E31: ='Holding Registers'!G1 -> Notes
A32: ='Holding Registers'!A2 -> 1 | B32: ='Holding Registers'!B2 -> Data Point Period | C32: ='Holding Registers'!C2 -> RW | D32: ='Holding Registers'!E2 -> REAL
A33: ='Holding Registers'!A3 -> 3 | B33: ='Holding Registers'!B3 -> Casing ID | C33: ='Holding Registers'!C3 -> RW | D33: ='Holding Registers'!E3 -> REAL
A34: ='Holding Registers'!A4 -> 5 | B34: ='Holding Registers'!B4 -> VFD Starting Speed | C34: ='Holding Registers'!C4 -> RW | D34: ='Holding Registers'!E4 -> REAL | E34: ='Holding Registers'!G4 -> in RPM
A35: ='Holding Registers'!A5 -> 7 | B35: ='Holding Registers'!B5 -> Electricity Cost per kWh | C35: ='Holding Registers'!C5 -> RW | D35: ='Holding Registers'!E5 -> REAL | E35: ='Holding Registers'!G5 -> in Dollars
A36: ='Holding Registers'!A6 -> 9 | B36: ='Holding Registers'!B6 -> Estimated Tubing Movement | C36: ='Holding Registers'!C6 -> RW | D36: ='Holding Registers'!E6 -> REAL | E36: ='Holding Registers'!G6 -> Estimated by top left corner - bottom left corner
A37: ='Holding Registers'!A7 -> 11 | B37: ='Holding Registers'!B7 -> Fluid Gradient | C37: ='Holding Registers'!C7 -> RW | D37: ='Holding Registers'!E7 -> REAL | E37: ='Holding Registers'!G7 -> in lbs/ft
A38: ='Holding Registers'!A8 -> 13 | B38: ='Holding Registers'!B8 -> Friction Estimate | C38: ='Holding Registers'!C8 -> RW | D38: ='Holding Registers'!E8 -> REAL | E38: ='Holding Registers'!G8 -> how much of fluid load is due to friction in well
A39: ='Holding Registers'!A9 -> 15 | B39: ='Holding Registers'!B9 -> Gauge Off Time Hour | C39: ='Holding Registers'!C9 -> RW | D39: ='Holding Registers'!E9 -> DINT
A40: ='Holding Registers'!A10 -> 16 | B40: ='Holding Registers'!B10 -> Gauge Off Time Minute | C40: ='Holding Registers'!C10 -> RW | D40: ='Holding Registers'!E10 -> DINT
A41: ='Holding Registers'!A11 -> 17 | B41: ='Holding Registers'!B11 -> Analog Input 1 - EU High | C41: ='Holding Registers'!C11 -> RW | D41: ='Holding Registers'!E11 -> REAL
A42: ='Holding Registers'!A12 -> 19 | B42: ='Holding Registers'!B12 -> Analog Input 1 - EU Low | C42: ='Holding Registers'!C12 -> RW | D42: ='Holding Registers'!E12 -> REAL
A43: ='Holding Registers'!A13 -> 21 | B43: ='Holding Registers'!B13 -> Analog Input 2 - EU High | C43: ='Holding Registers'!C13 -> RW | D43: ='Holding Registers'!E13 -> REAL
A44: ='Holding Registers'!A14 -> 23 | B44: ='Holding Registers'!B14 -> Analog Input 2 - EU Low | C44: ='Holding Registers'!C14 -> RW | D44: ='Holding Registers'!E14 -> REAL
A45: ='Holding Registers'!A15 -> 25 | B45: ='Holding Registers'!B15 -> Analog Input 3 - EU High | C45: ='Holding Registers'!C15 -> RW | D45: ='Holding Registers'!E15 -> REAL
A46: ='Holding Registers'!A16 -> 27 | B46: ='Holding Registers'!B16 -> Analog Input 3 - EU Low | C46: ='Holding Registers'!C16 -> RW | D46: ='Holding Registers'!E16 -> REAL
A47: ='Holding Registers'!A17 -> 29 | B47: ='Holding Registers'!B17 -> Inclinometer Input - EU High | C47: ='Holding Registers'!C17 -> RW | D47: ='Holding Registers'!E17 -> REAL
A48: ='Holding Registers'!A18 -> 31 | B48: ='Holding Registers'!B18 -> Inclinometer Input - EU Low | C48: ='Holding Registers'!C18 -> RW | D48: ='Holding Registers'!E18 -> REAL
A49: ='Holding Registers'!A19 -> 33 | B49: ='Holding Registers'!B19 -> Load Cell Input - EU High | C49: ='Holding Registers'!C19 -> RW | D49: ='Holding Registers'!E19 -> REAL
A50: ='Holding Registers'!A20 -> 35 | B50: ='Holding Registers'!B20 -> Load Cell Input - EU Low | C50: ='Holding Registers'!C20 -> RW | D50: ='Holding Registers'!E20 -> REAL
A51: ='Holding Registers'!A21 -> 37 | B51: ='Holding Registers'!B21 -> K-Factor | C51: ='Holding Registers'!C21 -> RW | D51: ='Holding Registers'!E21 -> REAL
A52: ='Holding Registers'!A22 -> 39 | B52: ='Holding Registers'!B22 -> Minimum Fluid Load Shutdown Setpoint | C52: ='Holding Registers'!C22 -> RW | D52: ='Holding Registers'!E22 -> REAL | E52: ='Holding Registers'!G22 -> in % maximum
A53: ='Holding Registers'!A23 -> 41 | B53: ='Holding Registers'!B23 -> Analog Input 1 - Channel | C53: ='Holding Registers'!C23 -> RW | D53: ='Holding Registers'!E23 -> INT
A54: ='Holding Registers'!A24 -> 42 | B54: ='Holding Registers'!B24 -> Analog Input 1 - Type | C54: ='Holding Registers'!C24 -> RW | D54: ='Holding Registers'!E24 -> INT | E54: ='Holding Registers'!G24 -> 1=Inclinometer, 2=Casing Pressure,3=Tubing Pressure, 4=Flow Line Pressure,5=Flowmeter, 6=Other
A55: ='Holding Registers'!A25 -> 43 | B55: ='Holding Registers'!B25 -> Analog Input 2 - Channel | C55: ='Holding Registers'!C25 -> RW | D55: ='Holding Registers'!E25 -> INT
A56: ='Holding Registers'!A26 -> 44 | B56: ='Holding Registers'!B26 -> Analog Input 2 - Type | C56: ='Holding Registers'!C26 -> RW | D56: ='Holding Registers'!E26 -> INT | E56: ='Holding Registers'!G26 -> 1=Inclinometer, 2=Casing Pressure,3=Tubing Pressure, 4=Flow Line Pressure,5=Flowmeter, 6=Other
A57: ='Holding Registers'!A27 -> 45 | B57: ='Holding Registers'!B27 -> Analog Input 3 - Channel | C57: ='Holding Registers'!C27 -> RW | D57: ='Holding Registers'!E27 -> INT
A58: ='Holding Registers'!A28 -> 46 | B58: ='Holding Registers'!B28 -> Analog Input 3 - Type | C58: ='Holding Registers'!C28 -> RW | D58: ='Holding Registers'!E28 -> INT | E58: ='Holding Registers'!G28 -> 1=Inclinometer, 2=Casing Pressure,3=Tubing Pressure, 4=Flow Line Pressure,5=Flowmeter, 6=Other
A59: ='Holding Registers'!A29 -> 47 | B59: ='Holding Registers'!B29 -> Inclinometer Input - Channel | C59: ='Holding Registers'!C29 -> RW | D59: ='Holding Registers'!E29 -> INT
A60: ='Holding Registers'!A30 -> 48 | B60: ='Holding Registers'!B30 -> Inclinometer Input - Type | C60: ='Holding Registers'!C30 -> RW | D60: ='Holding Registers'!E30 -> INT
A61: ='Holding Registers'!A31 -> 49 | B61: ='Holding Registers'!B31 -> Load Cell Input - Channel | C61: ='Holding Registers'!C31 -> RW | D61: ='Holding Registers'!E31 -> INT
A62: ='Holding Registers'!A32 -> 50 | B62: ='Holding Registers'!B32 -> Load Cell Input - Type | C62: ='Holding Registers'!C32 -> RW | D62: ='Holding Registers'!E32 -> INT
A63: ='Holding Registers'!A33 -> 51 | B63: ='Holding Registers'!B33 -> Taper 1 Length | C63: ='Holding Registers'!C33 -> RW | D63: ='Holding Registers'!E33 -> REAL
A64: ='Holding Registers'!A34 -> 53 | B64: ='Holding Registers'!B34 -> Taper 1 Diameter | C64: ='Holding Registers'!C34 -> RW | D64: ='Holding Registers'!E34 -> REAL
A65: ='Holding Registers'!A35 -> 55 | B65: ='Holding Registers'!B35 -> Taper 1 Material | C65: ='Holding Registers'!C35 -> RW | D65: ='Holding Registers'!E35 -> DINT | E65: ='Holding Registers'!G35 -> 1=Steel, 2=Fiberglass
A66: ='Holding Registers'!A36 -> 56 | B66: ='Holding Registers'!B36 -> Taper 2 Length | C66: ='Holding Registers'!C36 -> RW | D66: ='Holding Registers'!E36 -> REAL
A67: ='Holding Registers'!A37 -> 58 | B67: ='Holding Registers'!B37 -> Taper 2 Diameter | C67: ='Holding Registers'!C37 -> RW | D67: ='Holding Registers'!E37 -> REAL
A68: ='Holding Registers'!A38 -> 60 | B68: ='Holding Registers'!B38 -> Taper 2 Material | C68: ='Holding Registers'!C38 -> RW | D68: ='Holding Registers'!E38 -> DINT | E68: ='Holding Registers'!G38 -> 1=Steel, 2=Fiberglass
A69: ='Holding Registers'!A39 -> 61 | B69: ='Holding Registers'!B39 -> Taper 3 Length | C69: ='Holding Registers'!C39 -> RW | D69: ='Holding Registers'!E39 -> REAL
A70: ='Holding Registers'!A40 -> 63 | B70: ='Holding Registers'!B40 -> Taper 3 Diameter | C70: ='Holding Registers'!C40 -> RW | D70: ='Holding Registers'!E40 -> REAL
A71: ='Holding Registers'!A41 -> 65 | B71: ='Holding Registers'!B41 -> Taper 3 Material | C71: ='Holding Registers'!C41 -> RW | D71: ='Holding Registers'!E41 -> DINT | E71: ='Holding Registers'!G41 -> 1=Steel, 2=Fiberglass
A72: ='Holding Registers'!A42 -> 66 | B72: ='Holding Registers'!B42 -> Taper 4 Length | C72: ='Holding Registers'!C42 -> RW | D72: ='Holding Registers'!E42 -> REAL
A73: ='Holding Registers'!A43 -> 68 | B73: ='Holding Registers'!B43 -> Taper 4 Diameter | C73: ='Holding Registers'!C43 -> RW | D73: ='Holding Registers'!E43 -> REAL
A74: ='Holding Registers'!A44 -> 70 | B74: ='Holding Registers'!B44 -> Taper 4 Material | C74: ='Holding Registers'!C44 -> RW | D74: ='Holding Registers'!E44 -> DINT | E74: ='Holding Registers'!G44 -> 1=Steel, 2=Fiberglass
A75: ='Holding Registers'!A45 -> 71 | B75: ='Holding Registers'!B45 -> Taper 5 Length | C75: ='Holding Registers'!C45 -> RW | D75: ='Holding Registers'!E45 -> REAL
A76: ='Holding Registers'!A46 -> 73 | B76: ='Holding Registers'!B46 -> Taper 5 Diameter | C76: ='Holding Registers'!C46 -> RW | D76: ='Holding Registers'!E46 -> REAL
A77: ='Holding Registers'!A47 -> 75 | B77: ='Holding Registers'!B47 -> Taper 5 Material | C77: ='Holding Registers'!C47 -> RW | D77: ='Holding Registers'!E47 -> DINT | E77: ='Holding Registers'!G47 -> 1=Steel, 2=Fiberglass
A78: ='Holding Registers'!A48 -> 76 | B78: ='Holding Registers'!B48 -> Taper 6 Length | C78: ='Holding Registers'!C48 -> RW | D78: ='Holding Registers'!E48 -> REAL
A79: ='Holding Registers'!A49 -> 78 | B79: ='Holding Registers'!B49 -> Taper 6 Diameter | C79: ='Holding Registers'!C49 -> RW | D79: ='Holding Registers'!E49 -> REAL
A80: ='Holding Registers'!A50 -> 80 | B80: ='Holding Registers'!B50 -> Taper 6 Material | C80: ='Holding Registers'!C50 -> RW | D80: ='Holding Registers'!E50 -> DINT | E80: ='Holding Registers'!G50 -> 1=Steel, 2=Fiberglass
A81: ='Holding Registers'!A51 -> 81 | B81: ='Holding Registers'!B51 -> Taper 7 Length | C81: ='Holding Registers'!C51 -> RW | D81: ='Holding Registers'!E51 -> REAL
A82: ='Holding Registers'!A52 -> 83 | B82: ='Holding Registers'!B52 -> Taper 7 Diameter | C82: ='Holding Registers'!C52 -> RW | D82: ='Holding Registers'!E52 -> REAL
A83: ='Holding Registers'!A53 -> 85 | B83: ='Holding Registers'!B53 -> Taper 7 Material | C83: ='Holding Registers'!C53 -> RW | D83: ='Holding Registers'!E53 -> DINT | E83: ='Holding Registers'!G53 -> 1=Steel, 2=Fiberglass
A84: ='Holding Registers'!A54 -> 86 | B84: ='Holding Registers'!B54 -> Taper 8 Length | C84: ='Holding Registers'!C54 -> RW | D84: ='Holding Registers'!E54 -> REAL
A85: ='Holding Registers'!A55 -> 88 | B85: ='Holding Registers'!B55 -> Taper 8 Diameter | C85: ='Holding Registers'!C55 -> RW | D85: ='Holding Registers'!E55 -> REAL
A86: ='Holding Registers'!A56 -> 90 | B86: ='Holding Registers'!B56 -> Taper 8 Material | C86: ='Holding Registers'!C56 -> RW | D86: ='Holding Registers'!E56 -> DINT | E86: ='Holding Registers'!G56 -> 1=Steel, 2=Fiberglass
A87: ='Holding Registers'!A57 -> 91 | B87: ='Holding Registers'!B57 -> Taper 9 Length | C87: ='Holding Registers'!C57 -> RW | D87: ='Holding Registers'!E57 -> REAL
A88: ='Holding Registers'!A58 -> 93 | B88: ='Holding Registers'!B58 -> Taper 9 Diameter | C88: ='Holding Registers'!C58 -> RW | D88: ='Holding Registers'!E58 -> REAL
A89: ='Holding Registers'!A59 -> 95 | B89: ='Holding Registers'!B59 -> Taper 9 Material | C89: ='Holding Registers'!C59 -> RW | D89: ='Holding Registers'!E59 -> DINT | E89: ='Holding Registers'!G59 -> 1=Steel, 2=Fiberglass
A90: ='Holding Registers'!A60 -> 96 | B90: ='Holding Registers'!B60 -> Taper 10 Length | C90: ='Holding Registers'!C60 -> RW | D90: ='Holding Registers'!E60 -> REAL
A91: ='Holding Registers'!A61 -> 98 | B91: ='Holding Registers'!B61 -> Taper 10 Diameter | C91: ='Holding Registers'!C61 -> RW | D91: ='Holding Registers'!E61 -> REAL
A92: ='Holding Registers'!A62 -> 100 | B92: ='Holding Registers'!B62 -> Taper 10 Material | C92: ='Holding Registers'!C62 -> RW | D92: ='Holding Registers'!E62 -> DINT | E92: ='Holding Registers'!G62 -> 1=Steel, 2=Fiberglass
A93: ='Holding Registers'!A63 -> 101 | B93: ='Holding Registers'!B63 -> Motor Nameplate Volts | C93: ='Holding Registers'!C63 -> RW | D93: ='Holding Registers'!E63 -> REAL
A94: ='Holding Registers'!A64 -> 103 | B94: ='Holding Registers'!B64 -> Motor Nameplate Amps | C94: ='Holding Registers'!C64 -> RW | D94: ='Holding Registers'!E64 -> REAL
A95: ='Holding Registers'!A65 -> 105 | B95: ='Holding Registers'!B65 -> Motor Nameplate Hertz | C95: ='Holding Registers'!C65 -> RW | D95: ='Holding Registers'!E65 -> REAL
A96: ='Holding Registers'!A66 -> 107 | B96: ='Holding Registers'!B66 -> Motor Nameplate Poles | C96: ='Holding Registers'!C66 -> RW | D96: ='Holding Registers'!E66 -> INT
A97: ='Holding Registers'!A67 -> 108 | B97: ='Holding Registers'!B67 -> Motor Nameplate RPM | C97: ='Holding Registers'!C67 -> RW | D97: ='Holding Registers'!E67 -> REAL
A98: ='Holding Registers'!A68 -> 110 | B98: ='Holding Registers'!B68 -> Motor Nameplate Service Factor | C98: ='Holding Registers'!C68 -> RW | D98: ='Holding Registers'!E68 -> REAL
A99: ='Holding Registers'!A69 -> 112 | B99: ='Holding Registers'!B69 -> Motor Nameplate Horsepower | C99: ='Holding Registers'!C69 -> RW | D99: ='Holding Registers'!E69 -> REAL
A100: ='Holding Registers'!A70 -> 114 | B100: ='Holding Registers'!B70 -> Pump Diameter | C100: ='Holding Registers'!C70 -> RW | D100: ='Holding Registers'!E70 -> REAL
A101: ='Holding Registers'!A71 -> 116 | B101: ='Holding Registers'!B71 -> Anchor Depth | C101: ='Holding Registers'!C71 -> RW | D101: ='Holding Registers'!E71 -> REAL
A102: ='Holding Registers'!A72 -> 118 | B102: ='Holding Registers'!B72 -> Total Stroke Length | C102: ='Holding Registers'!C72 -> RW | D102: ='Holding Registers'!E72 -> REAL
A103: ='Holding Registers'!A73 -> 120 | B103: ='Holding Registers'!B73 -> Motor Sheave Size | C103: ='Holding Registers'!C73 -> RW | D103: ='Holding Registers'!E73 -> REAL
A104: ='Holding Registers'!A74 -> 122 | B104: ='Holding Registers'!B74 -> Gearbox Sheave size | C104: ='Holding Registers'!C74 -> RW | D104: ='Holding Registers'!E74 -> REAL
... A115: ='Holding Registers'!A85 -> 143 | B115: ='Holding Registers'!B85 -> Percent Water | C115: ='Holding Registers'!C85 -> RW | D115: ='Holding Registers'!E85 -> REAL
...
